BEGIN:VCALENDAR
VERSION:2.0
PRODID:-//Massachusetts Alliance of Portuguese Speakers - ECPv6.15.7//NONSGML v1.0//EN
CALSCALE:GREGORIAN
METHOD:PUBLISH
X-WR-CALNAME:Massachusetts Alliance of Portuguese Speakers
X-ORIGINAL-URL:https://maps-inc.org
X-WR-CALDESC:Events for Massachusetts Alliance of Portuguese Speakers
REFRESH-INTERVAL;VALUE=DURATION:PT1H
X-Robots-Tag:noindex
X-PUBLISHED-TTL:PT1H
BEGIN:VTIMEZONE
TZID:America/New_York
BEGIN:DAYLIGHT
TZOFFSETFROM:-0500
TZOFFSETTO:-0400
TZNAME:EDT
DTSTART:20250309T070000
END:DAYLIGHT
BEGIN:STANDARD
TZOFFSETFROM:-0400
TZOFFSETTO:-0500
TZNAME:EST
DTSTART:20251102T060000
END:STANDARD
BEGIN:DAYLIGHT
TZOFFSETFROM:-0500
TZOFFSETTO:-0400
TZNAME:EDT
DTSTART:20260308T070000
END:DAYLIGHT
BEGIN:STANDARD
TZOFFSETFROM:-0400
TZOFFSETTO:-0500
TZNAME:EST
DTSTART:20261101T060000
END:STANDARD
BEGIN:DAYLIGHT
TZOFFSETFROM:-0500
TZOFFSETTO:-0400
TZNAME:EDT
DTSTART:20270314T070000
END:DAYLIGHT
BEGIN:STANDARD
TZOFFSETFROM:-0400
TZOFFSETTO:-0500
TZNAME:EST
DTSTART:20271107T060000
END:STANDARD
BEGIN:DAYLIGHT
TZOFFSETFROM:-0500
TZOFFSETTO:-0400
TZNAME:EDT
DTSTART:20280312T070000
END:DAYLIGHT
BEGIN:STANDARD
TZOFFSETFROM:-0400
TZOFFSETTO:-0500
TZNAME:EST
DTSTART:20281105T060000
END:STANDARD
BEGIN:DAYLIGHT
TZOFFSETFROM:-0500
TZOFFSETTO:-0400
TZNAME:EDT
DTSTART:20290311T070000
END:DAYLIGHT
BEGIN:STANDARD
TZOFFSETFROM:-0400
TZOFFSETTO:-0500
TZNAME:EST
DTSTART:20291104T060000
END:STANDARD
END:VTIMEZONE
BEGIN:VEVENT
DTSTART;TZID=America/New_York:20260428T180000
DTEND;TZID=America/New_York:20260428T200000
DTSTAMP:20260420T111547
CREATED:20240506T135550Z
LAST-MODIFIED:20240507T005432Z
UID:10002660-1777399200-1777406400@maps-inc.org
SUMMARY:MAPS Board of Directors Meeting
DESCRIPTION:Regular monthly Board meeting on Zoom.  Open to the public. If you are interested in attending\, please call in advance (617-864-7600) to request a Zoom link.
URL:https://maps-inc.org/community-calendar/maps-board-of-directors-meeting-2/2026-04-28/
LOCATION:MAPS Cambridge Office\, 1046 Cambridge St.\, 2nd Fl.
END:VEVENT
BEGIN:VEVENT
DTSTART;TZID=America/New_York:20260526T180000
DTEND;TZID=America/New_York:20260526T200000
DTSTAMP:20260420T111547
CREATED:20240506T135550Z
LAST-MODIFIED:20240507T005432Z
UID:10002661-1779818400-1779825600@maps-inc.org
SUMMARY:MAPS Board of Directors Meeting
DESCRIPTION:Regular monthly Board meeting on Zoom.  Open to the public. If you are interested in attending\, please call in advance (617-864-7600) to request a Zoom link.
URL:https://maps-inc.org/community-calendar/maps-board-of-directors-meeting-2/2026-05-26/
LOCATION:MAPS Cambridge Office\, 1046 Cambridge St.\, 2nd Fl.
END:VEVENT
BEGIN:VEVENT
DTSTART;TZID=America/New_York:20260623T180000
DTEND;TZID=America/New_York:20260623T200000
DTSTAMP:20260420T111547
CREATED:20240506T135550Z
LAST-MODIFIED:20240507T005432Z
UID:10002662-1782237600-1782244800@maps-inc.org
SUMMARY:MAPS Board of Directors Meeting
DESCRIPTION:Regular monthly Board meeting on Zoom.  Open to the public. If you are interested in attending\, please call in advance (617-864-7600) to request a Zoom link.
URL:https://maps-inc.org/community-calendar/maps-board-of-directors-meeting-2/2026-06-23/
LOCATION:MAPS Cambridge Office\, 1046 Cambridge St.\, 2nd Fl.
END:VEVENT
BEGIN:VEVENT
DTSTART;TZID=America/New_York:20260728T180000
DTEND;TZID=America/New_York:20260728T200000
DTSTAMP:20260420T111547
CREATED:20240506T135550Z
LAST-MODIFIED:20240507T005432Z
UID:10002663-1785261600-1785268800@maps-inc.org
SUMMARY:MAPS Board of Directors Meeting
DESCRIPTION:Regular monthly Board meeting on Zoom.  Open to the public. If you are interested in attending\, please call in advance (617-864-7600) to request a Zoom link.
URL:https://maps-inc.org/community-calendar/maps-board-of-directors-meeting-2/2026-07-28/
LOCATION:MAPS Cambridge Office\, 1046 Cambridge St.\, 2nd Fl.
END:VEVENT
BEGIN:VEVENT
DTSTART;TZID=America/New_York:20260825T180000
DTEND;TZID=America/New_York:20260825T200000
DTSTAMP:20260420T111547
CREATED:20240506T135550Z
LAST-MODIFIED:20240507T005432Z
UID:10002664-1787680800-1787688000@maps-inc.org
SUMMARY:MAPS Board of Directors Meeting
DESCRIPTION:Regular monthly Board meeting on Zoom.  Open to the public. If you are interested in attending\, please call in advance (617-864-7600) to request a Zoom link.
URL:https://maps-inc.org/community-calendar/maps-board-of-directors-meeting-2/2026-08-25/
LOCATION:MAPS Cambridge Office\, 1046 Cambridge St.\, 2nd Fl.
END:VEVENT
BEGIN:VEVENT
DTSTART;TZID=America/New_York:20260922T180000
DTEND;TZID=America/New_York:20260922T200000
DTSTAMP:20260420T111547
CREATED:20240506T135550Z
LAST-MODIFIED:20240507T005432Z
UID:10002665-1790100000-1790107200@maps-inc.org
SUMMARY:MAPS Board of Directors Meeting
DESCRIPTION:Regular monthly Board meeting on Zoom.  Open to the public. If you are interested in attending\, please call in advance (617-864-7600) to request a Zoom link.
URL:https://maps-inc.org/community-calendar/maps-board-of-directors-meeting-2/2026-09-22/
LOCATION:MAPS Cambridge Office\, 1046 Cambridge St.\, 2nd Fl.
END:VEVENT
BEGIN:VEVENT
DTSTART;TZID=America/New_York:20261027T180000
DTEND;TZID=America/New_York:20261027T200000
DTSTAMP:20260420T111547
CREATED:20240506T135550Z
LAST-MODIFIED:20240507T005432Z
UID:10002666-1793124000-1793131200@maps-inc.org
SUMMARY:MAPS Board of Directors Meeting
DESCRIPTION:Regular monthly Board meeting on Zoom.  Open to the public. If you are interested in attending\, please call in advance (617-864-7600) to request a Zoom link.
URL:https://maps-inc.org/community-calendar/maps-board-of-directors-meeting-2/2026-10-27/
LOCATION:MAPS Cambridge Office\, 1046 Cambridge St.\, 2nd Fl.
END:VEVENT
BEGIN:VEVENT
DTSTART;TZID=America/New_York:20261124T180000
DTEND;TZID=America/New_York:20261124T200000
DTSTAMP:20260420T111547
CREATED:20240506T135550Z
LAST-MODIFIED:20240507T005432Z
UID:10002667-1795543200-1795550400@maps-inc.org
SUMMARY:MAPS Board of Directors Meeting
DESCRIPTION:Regular monthly Board meeting on Zoom.  Open to the public. If you are interested in attending\, please call in advance (617-864-7600) to request a Zoom link.
URL:https://maps-inc.org/community-calendar/maps-board-of-directors-meeting-2/2026-11-24/
LOCATION:MAPS Cambridge Office\, 1046 Cambridge St.\, 2nd Fl.
END:VEVENT
BEGIN:VEVENT
DTSTART;TZID=America/New_York:20261222T180000
DTEND;TZID=America/New_York:20261222T200000
DTSTAMP:20260420T111547
CREATED:20240506T135550Z
LAST-MODIFIED:20240507T005432Z
UID:10002668-1797962400-1797969600@maps-inc.org
SUMMARY:MAPS Board of Directors Meeting
DESCRIPTION:Regular monthly Board meeting on Zoom.  Open to the public. If you are interested in attending\, please call in advance (617-864-7600) to request a Zoom link.
URL:https://maps-inc.org/community-calendar/maps-board-of-directors-meeting-2/2026-12-22/
LOCATION:MAPS Cambridge Office\, 1046 Cambridge St.\, 2nd Fl.
END:VEVENT
BEGIN:VEVENT
DTSTART;TZID=America/New_York:20270126T180000
DTEND;TZID=America/New_York:20270126T200000
DTSTAMP:20260420T111547
CREATED:20240506T135550Z
LAST-MODIFIED:20240507T005432Z
UID:10002669-1800986400-1800993600@maps-inc.org
SUMMARY:MAPS Board of Directors Meeting
DESCRIPTION:Regular monthly Board meeting on Zoom.  Open to the public. If you are interested in attending\, please call in advance (617-864-7600) to request a Zoom link.
URL:https://maps-inc.org/community-calendar/maps-board-of-directors-meeting-2/2027-01-26/
LOCATION:MAPS Cambridge Office\, 1046 Cambridge St.\, 2nd Fl.
END:VEVENT
BEGIN:VEVENT
DTSTART;TZID=America/New_York:20270223T180000
DTEND;TZID=America/New_York:20270223T200000
DTSTAMP:20260420T111547
CREATED:20240506T135550Z
LAST-MODIFIED:20240507T005432Z
UID:10002670-1803405600-1803412800@maps-inc.org
SUMMARY:MAPS Board of Directors Meeting
DESCRIPTION:Regular monthly Board meeting on Zoom.  Open to the public. If you are interested in attending\, please call in advance (617-864-7600) to request a Zoom link.
URL:https://maps-inc.org/community-calendar/maps-board-of-directors-meeting-2/2027-02-23/
LOCATION:MAPS Cambridge Office\, 1046 Cambridge St.\, 2nd Fl.
END:VEVENT
BEGIN:VEVENT
DTSTART;TZID=America/New_York:20270323T180000
DTEND;TZID=America/New_York:20270323T200000
DTSTAMP:20260420T111547
CREATED:20240506T135550Z
LAST-MODIFIED:20240507T005432Z
UID:10002671-1805824800-1805832000@maps-inc.org
SUMMARY:MAPS Board of Directors Meeting
DESCRIPTION:Regular monthly Board meeting on Zoom.  Open to the public. If you are interested in attending\, please call in advance (617-864-7600) to request a Zoom link.
URL:https://maps-inc.org/community-calendar/maps-board-of-directors-meeting-2/2027-03-23/
LOCATION:MAPS Cambridge Office\, 1046 Cambridge St.\, 2nd Fl.
END:VEVENT
BEGIN:VEVENT
DTSTART;TZID=America/New_York:20270427T180000
DTEND;TZID=America/New_York:20270427T200000
DTSTAMP:20260420T111547
CREATED:20240506T135550Z
LAST-MODIFIED:20240507T005432Z
UID:10002672-1808848800-1808856000@maps-inc.org
SUMMARY:MAPS Board of Directors Meeting
DESCRIPTION:Regular monthly Board meeting on Zoom.  Open to the public. If you are interested in attending\, please call in advance (617-864-7600) to request a Zoom link.
URL:https://maps-inc.org/community-calendar/maps-board-of-directors-meeting-2/2027-04-27/
LOCATION:MAPS Cambridge Office\, 1046 Cambridge St.\, 2nd Fl.
END:VEVENT
BEGIN:VEVENT
DTSTART;TZID=America/New_York:20270525T180000
DTEND;TZID=America/New_York:20270525T200000
DTSTAMP:20260420T111547
CREATED:20240506T135550Z
LAST-MODIFIED:20240507T005432Z
UID:10002673-1811268000-1811275200@maps-inc.org
SUMMARY:MAPS Board of Directors Meeting
DESCRIPTION:Regular monthly Board meeting on Zoom.  Open to the public. If you are interested in attending\, please call in advance (617-864-7600) to request a Zoom link.
URL:https://maps-inc.org/community-calendar/maps-board-of-directors-meeting-2/2027-05-25/
LOCATION:MAPS Cambridge Office\, 1046 Cambridge St.\, 2nd Fl.
END:VEVENT
BEGIN:VEVENT
DTSTART;TZID=America/New_York:20270622T180000
DTEND;TZID=America/New_York:20270622T200000
DTSTAMP:20260420T111547
CREATED:20240506T135550Z
LAST-MODIFIED:20240507T005432Z
UID:10002674-1813687200-1813694400@maps-inc.org
SUMMARY:MAPS Board of Directors Meeting
DESCRIPTION:Regular monthly Board meeting on Zoom.  Open to the public. If you are interested in attending\, please call in advance (617-864-7600) to request a Zoom link.
URL:https://maps-inc.org/community-calendar/maps-board-of-directors-meeting-2/2027-06-22/
LOCATION:MAPS Cambridge Office\, 1046 Cambridge St.\, 2nd Fl.
END:VEVENT
BEGIN:VEVENT
DTSTART;TZID=America/New_York:20270727T180000
DTEND;TZID=America/New_York:20270727T200000
DTSTAMP:20260420T111547
CREATED:20240506T135550Z
LAST-MODIFIED:20240507T005432Z
UID:10002675-1816711200-1816718400@maps-inc.org
SUMMARY:MAPS Board of Directors Meeting
DESCRIPTION:Regular monthly Board meeting on Zoom.  Open to the public. If you are interested in attending\, please call in advance (617-864-7600) to request a Zoom link.
URL:https://maps-inc.org/community-calendar/maps-board-of-directors-meeting-2/2027-07-27/
LOCATION:MAPS Cambridge Office\, 1046 Cambridge St.\, 2nd Fl.
END:VEVENT
BEGIN:VEVENT
DTSTART;TZID=America/New_York:20270824T180000
DTEND;TZID=America/New_York:20270824T200000
DTSTAMP:20260420T111547
CREATED:20240506T135550Z
LAST-MODIFIED:20240507T005432Z
UID:10002676-1819130400-1819137600@maps-inc.org
SUMMARY:MAPS Board of Directors Meeting
DESCRIPTION:Regular monthly Board meeting on Zoom.  Open to the public. If you are interested in attending\, please call in advance (617-864-7600) to request a Zoom link.
URL:https://maps-inc.org/community-calendar/maps-board-of-directors-meeting-2/2027-08-24/
LOCATION:MAPS Cambridge Office\, 1046 Cambridge St.\, 2nd Fl.
END:VEVENT
BEGIN:VEVENT
DTSTART;TZID=America/New_York:20270928T180000
DTEND;TZID=America/New_York:20270928T200000
DTSTAMP:20260420T111547
CREATED:20240506T135550Z
LAST-MODIFIED:20240507T005432Z
UID:10002677-1822154400-1822161600@maps-inc.org
SUMMARY:MAPS Board of Directors Meeting
DESCRIPTION:Regular monthly Board meeting on Zoom.  Open to the public. If you are interested in attending\, please call in advance (617-864-7600) to request a Zoom link.
URL:https://maps-inc.org/community-calendar/maps-board-of-directors-meeting-2/2027-09-28/
LOCATION:MAPS Cambridge Office\, 1046 Cambridge St.\, 2nd Fl.
END:VEVENT
BEGIN:VEVENT
DTSTART;TZID=America/New_York:20271026T180000
DTEND;TZID=America/New_York:20271026T200000
DTSTAMP:20260420T111547
CREATED:20240506T135550Z
LAST-MODIFIED:20240507T005432Z
UID:10002678-1824573600-1824580800@maps-inc.org
SUMMARY:MAPS Board of Directors Meeting
DESCRIPTION:Regular monthly Board meeting on Zoom.  Open to the public. If you are interested in attending\, please call in advance (617-864-7600) to request a Zoom link.
URL:https://maps-inc.org/community-calendar/maps-board-of-directors-meeting-2/2027-10-26/
LOCATION:MAPS Cambridge Office\, 1046 Cambridge St.\, 2nd Fl.
END:VEVENT
BEGIN:VEVENT
DTSTART;TZID=America/New_York:20271123T180000
DTEND;TZID=America/New_York:20271123T200000
DTSTAMP:20260420T111547
CREATED:20240506T135550Z
LAST-MODIFIED:20240507T005432Z
UID:10002679-1826992800-1827000000@maps-inc.org
SUMMARY:MAPS Board of Directors Meeting
DESCRIPTION:Regular monthly Board meeting on Zoom.  Open to the public. If you are interested in attending\, please call in advance (617-864-7600) to request a Zoom link.
URL:https://maps-inc.org/community-calendar/maps-board-of-directors-meeting-2/2027-11-23/
LOCATION:MAPS Cambridge Office\, 1046 Cambridge St.\, 2nd Fl.
END:VEVENT
BEGIN:VEVENT
DTSTART;TZID=America/New_York:20271228T180000
DTEND;TZID=America/New_York:20271228T200000
DTSTAMP:20260420T111547
CREATED:20240506T135550Z
LAST-MODIFIED:20240507T005432Z
UID:10002680-1830016800-1830024000@maps-inc.org
SUMMARY:MAPS Board of Directors Meeting
DESCRIPTION:Regular monthly Board meeting on Zoom.  Open to the public. If you are interested in attending\, please call in advance (617-864-7600) to request a Zoom link.
URL:https://maps-inc.org/community-calendar/maps-board-of-directors-meeting-2/2027-12-28/
LOCATION:MAPS Cambridge Office\, 1046 Cambridge St.\, 2nd Fl.
END:VEVENT
BEGIN:VEVENT
DTSTART;TZID=America/New_York:20280125T180000
DTEND;TZID=America/New_York:20280125T200000
DTSTAMP:20260420T111547
CREATED:20240506T135550Z
LAST-MODIFIED:20240507T005432Z
UID:10002681-1832436000-1832443200@maps-inc.org
SUMMARY:MAPS Board of Directors Meeting
DESCRIPTION:Regular monthly Board meeting on Zoom.  Open to the public. If you are interested in attending\, please call in advance (617-864-7600) to request a Zoom link.
URL:https://maps-inc.org/community-calendar/maps-board-of-directors-meeting-2/2028-01-25/
LOCATION:MAPS Cambridge Office\, 1046 Cambridge St.\, 2nd Fl.
END:VEVENT
BEGIN:VEVENT
DTSTART;TZID=America/New_York:20280222T180000
DTEND;TZID=America/New_York:20280222T200000
DTSTAMP:20260420T111547
CREATED:20240506T135550Z
LAST-MODIFIED:20240507T005432Z
UID:10002682-1834855200-1834862400@maps-inc.org
SUMMARY:MAPS Board of Directors Meeting
DESCRIPTION:Regular monthly Board meeting on Zoom.  Open to the public. If you are interested in attending\, please call in advance (617-864-7600) to request a Zoom link.
URL:https://maps-inc.org/community-calendar/maps-board-of-directors-meeting-2/2028-02-22/
LOCATION:MAPS Cambridge Office\, 1046 Cambridge St.\, 2nd Fl.
END:VEVENT
BEGIN:VEVENT
DTSTART;TZID=America/New_York:20280328T180000
DTEND;TZID=America/New_York:20280328T200000
DTSTAMP:20260420T111547
CREATED:20240506T135550Z
LAST-MODIFIED:20240507T005432Z
UID:10002683-1837879200-1837886400@maps-inc.org
SUMMARY:MAPS Board of Directors Meeting
DESCRIPTION:Regular monthly Board meeting on Zoom.  Open to the public. If you are interested in attending\, please call in advance (617-864-7600) to request a Zoom link.
URL:https://maps-inc.org/community-calendar/maps-board-of-directors-meeting-2/2028-03-28/
LOCATION:MAPS Cambridge Office\, 1046 Cambridge St.\, 2nd Fl.
END:VEVENT
BEGIN:VEVENT
DTSTART;TZID=America/New_York:20280425T180000
DTEND;TZID=America/New_York:20280425T200000
DTSTAMP:20260420T111547
CREATED:20240506T135550Z
LAST-MODIFIED:20240507T005432Z
UID:10002684-1840298400-1840305600@maps-inc.org
SUMMARY:MAPS Board of Directors Meeting
DESCRIPTION:Regular monthly Board meeting on Zoom.  Open to the public. If you are interested in attending\, please call in advance (617-864-7600) to request a Zoom link.
URL:https://maps-inc.org/community-calendar/maps-board-of-directors-meeting-2/2028-04-25/
LOCATION:MAPS Cambridge Office\, 1046 Cambridge St.\, 2nd Fl.
END:VEVENT
BEGIN:VEVENT
DTSTART;TZID=America/New_York:20280523T180000
DTEND;TZID=America/New_York:20280523T200000
DTSTAMP:20260420T111547
CREATED:20240506T135550Z
LAST-MODIFIED:20240507T005432Z
UID:10002685-1842717600-1842724800@maps-inc.org
SUMMARY:MAPS Board of Directors Meeting
DESCRIPTION:Regular monthly Board meeting on Zoom.  Open to the public. If you are interested in attending\, please call in advance (617-864-7600) to request a Zoom link.
URL:https://maps-inc.org/community-calendar/maps-board-of-directors-meeting-2/2028-05-23/
LOCATION:MAPS Cambridge Office\, 1046 Cambridge St.\, 2nd Fl.
END:VEVENT
BEGIN:VEVENT
DTSTART;TZID=America/New_York:20280627T180000
DTEND;TZID=America/New_York:20280627T200000
DTSTAMP:20260420T111547
CREATED:20240506T135550Z
LAST-MODIFIED:20240507T005432Z
UID:10002686-1845741600-1845748800@maps-inc.org
SUMMARY:MAPS Board of Directors Meeting
DESCRIPTION:Regular monthly Board meeting on Zoom.  Open to the public. If you are interested in attending\, please call in advance (617-864-7600) to request a Zoom link.
URL:https://maps-inc.org/community-calendar/maps-board-of-directors-meeting-2/2028-06-27/
LOCATION:MAPS Cambridge Office\, 1046 Cambridge St.\, 2nd Fl.
END:VEVENT
BEGIN:VEVENT
DTSTART;TZID=America/New_York:20280725T180000
DTEND;TZID=America/New_York:20280725T200000
DTSTAMP:20260420T111547
CREATED:20240506T135550Z
LAST-MODIFIED:20240507T005432Z
UID:10002687-1848160800-1848168000@maps-inc.org
SUMMARY:MAPS Board of Directors Meeting
DESCRIPTION:Regular monthly Board meeting on Zoom.  Open to the public. If you are interested in attending\, please call in advance (617-864-7600) to request a Zoom link.
URL:https://maps-inc.org/community-calendar/maps-board-of-directors-meeting-2/2028-07-25/
LOCATION:MAPS Cambridge Office\, 1046 Cambridge St.\, 2nd Fl.
END:VEVENT
BEGIN:VEVENT
DTSTART;TZID=America/New_York:20280822T180000
DTEND;TZID=America/New_York:20280822T200000
DTSTAMP:20260420T111547
CREATED:20240506T135550Z
LAST-MODIFIED:20240507T005432Z
UID:10002688-1850580000-1850587200@maps-inc.org
SUMMARY:MAPS Board of Directors Meeting
DESCRIPTION:Regular monthly Board meeting on Zoom.  Open to the public. If you are interested in attending\, please call in advance (617-864-7600) to request a Zoom link.
URL:https://maps-inc.org/community-calendar/maps-board-of-directors-meeting-2/2028-08-22/
LOCATION:MAPS Cambridge Office\, 1046 Cambridge St.\, 2nd Fl.
END:VEVENT
BEGIN:VEVENT
DTSTART;TZID=America/New_York:20280926T180000
DTEND;TZID=America/New_York:20280926T200000
DTSTAMP:20260420T111547
CREATED:20240506T135550Z
LAST-MODIFIED:20240507T005432Z
UID:10002689-1853604000-1853611200@maps-inc.org
SUMMARY:MAPS Board of Directors Meeting
DESCRIPTION:Regular monthly Board meeting on Zoom.  Open to the public. If you are interested in attending\, please call in advance (617-864-7600) to request a Zoom link.
URL:https://maps-inc.org/community-calendar/maps-board-of-directors-meeting-2/2028-09-26/
LOCATION:MAPS Cambridge Office\, 1046 Cambridge St.\, 2nd Fl.
END:VEVENT
END:VCALENDAR