BEGIN:VCALENDAR
VERSION:2.0
PRODID:-//Massachusetts Alliance of Portuguese Speakers - ECPv6.15.7//NONSGML v1.0//EN
CALSCALE:GREGORIAN
METHOD:PUBLISH
X-ORIGINAL-URL:https://maps-inc.org
X-WR-CALDESC:Events for Massachusetts Alliance of Portuguese Speakers
REFRESH-INTERVAL;VALUE=DURATION:PT1H
X-Robots-Tag:noindex
X-PUBLISHED-TTL:PT1H
BEGIN:VTIMEZONE
TZID:America/New_York
BEGIN:DAYLIGHT
TZOFFSETFROM:-0500
TZOFFSETTO:-0400
TZNAME:EDT
DTSTART:20270314T070000
END:DAYLIGHT
BEGIN:STANDARD
TZOFFSETFROM:-0400
TZOFFSETTO:-0500
TZNAME:EST
DTSTART:20271107T060000
END:STANDARD
BEGIN:DAYLIGHT
TZOFFSETFROM:-0500
TZOFFSETTO:-0400
TZNAME:EDT
DTSTART:20280312T070000
END:DAYLIGHT
BEGIN:STANDARD
TZOFFSETFROM:-0400
TZOFFSETTO:-0500
TZNAME:EST
DTSTART:20281105T060000
END:STANDARD
BEGIN:DAYLIGHT
TZOFFSETFROM:-0500
TZOFFSETTO:-0400
TZNAME:EDT
DTSTART:20290311T070000
END:DAYLIGHT
BEGIN:STANDARD
TZOFFSETFROM:-0400
TZOFFSETTO:-0500
TZNAME:EST
DTSTART:20291104T060000
END:STANDARD
BEGIN:DAYLIGHT
TZOFFSETFROM:-0500
TZOFFSETTO:-0400
TZNAME:EDT
DTSTART:20300310T070000
END:DAYLIGHT
BEGIN:STANDARD
TZOFFSETFROM:-0400
TZOFFSETTO:-0500
TZNAME:EST
DTSTART:20301103T060000
END:STANDARD
END:VTIMEZONE
BEGIN:VEVENT
DTSTART;TZID=America/New_York:20280807T160000
DTEND;TZID=America/New_York:20280807T180000
DTSTAMP:20260420T115638
CREATED:20240506T135549Z
LAST-MODIFIED:20240910T184736Z
UID:10001053-1849276800-1849284000@maps-inc.org
SUMMARY:LOWELL: No-Cost HIV/STI Health Clinic
DESCRIPTION:Free\, quick and confidential tests to HIV and other Sexually Transmitted Infections. \nFor more information: MAPS Lowell Office (490 Central St.)\, tel: (978) 970-1250;
URL:https://maps-inc.org/community-calendar/lowell-free-walk-in-health-clinic-4/2028-08-07/
LOCATION:Massachusetts Alliance of Portuguese Speakers | Lowell\, 490 Central St\, Lowell\, MA 01852\, USA
END:VEVENT
BEGIN:VEVENT
DTSTART;TZID=America/New_York:20280814T160000
DTEND;TZID=America/New_York:20280814T180000
DTSTAMP:20260420T115638
CREATED:20240506T135549Z
LAST-MODIFIED:20240910T184736Z
UID:10001054-1849881600-1849888800@maps-inc.org
SUMMARY:LOWELL: No-Cost HIV/STI Health Clinic
DESCRIPTION:Free\, quick and confidential tests to HIV and other Sexually Transmitted Infections. \nFor more information: MAPS Lowell Office (490 Central St.)\, tel: (978) 970-1250;
URL:https://maps-inc.org/community-calendar/lowell-free-walk-in-health-clinic-4/2028-08-14/
LOCATION:Massachusetts Alliance of Portuguese Speakers | Lowell\, 490 Central St\, Lowell\, MA 01852\, USA
END:VEVENT
BEGIN:VEVENT
DTSTART;TZID=America/New_York:20280821T160000
DTEND;TZID=America/New_York:20280821T180000
DTSTAMP:20260420T115638
CREATED:20240506T135549Z
LAST-MODIFIED:20240910T184736Z
UID:10001055-1850486400-1850493600@maps-inc.org
SUMMARY:LOWELL: No-Cost HIV/STI Health Clinic
DESCRIPTION:Free\, quick and confidential tests to HIV and other Sexually Transmitted Infections. \nFor more information: MAPS Lowell Office (490 Central St.)\, tel: (978) 970-1250;
URL:https://maps-inc.org/community-calendar/lowell-free-walk-in-health-clinic-4/2028-08-21/
LOCATION:Massachusetts Alliance of Portuguese Speakers | Lowell\, 490 Central St\, Lowell\, MA 01852\, USA
END:VEVENT
BEGIN:VEVENT
DTSTART;TZID=America/New_York:20280828T160000
DTEND;TZID=America/New_York:20280828T180000
DTSTAMP:20260420T115638
CREATED:20240506T135549Z
LAST-MODIFIED:20240910T184736Z
UID:10001056-1851091200-1851098400@maps-inc.org
SUMMARY:LOWELL: No-Cost HIV/STI Health Clinic
DESCRIPTION:Free\, quick and confidential tests to HIV and other Sexually Transmitted Infections. \nFor more information: MAPS Lowell Office (490 Central St.)\, tel: (978) 970-1250;
URL:https://maps-inc.org/community-calendar/lowell-free-walk-in-health-clinic-4/2028-08-28/
LOCATION:Massachusetts Alliance of Portuguese Speakers | Lowell\, 490 Central St\, Lowell\, MA 01852\, USA
END:VEVENT
BEGIN:VEVENT
DTSTART;TZID=America/New_York:20280904T160000
DTEND;TZID=America/New_York:20280904T180000
DTSTAMP:20260420T115638
CREATED:20240506T135549Z
LAST-MODIFIED:20240910T184736Z
UID:10001057-1851696000-1851703200@maps-inc.org
SUMMARY:LOWELL: No-Cost HIV/STI Health Clinic
DESCRIPTION:Free\, quick and confidential tests to HIV and other Sexually Transmitted Infections. \nFor more information: MAPS Lowell Office (490 Central St.)\, tel: (978) 970-1250;
URL:https://maps-inc.org/community-calendar/lowell-free-walk-in-health-clinic-4/2028-09-04/
LOCATION:Massachusetts Alliance of Portuguese Speakers | Lowell\, 490 Central St\, Lowell\, MA 01852\, USA
END:VEVENT
BEGIN:VEVENT
DTSTART;TZID=America/New_York:20280911T160000
DTEND;TZID=America/New_York:20280911T180000
DTSTAMP:20260420T115638
CREATED:20240506T135549Z
LAST-MODIFIED:20240910T184736Z
UID:10001058-1852300800-1852308000@maps-inc.org
SUMMARY:LOWELL: No-Cost HIV/STI Health Clinic
DESCRIPTION:Free\, quick and confidential tests to HIV and other Sexually Transmitted Infections. \nFor more information: MAPS Lowell Office (490 Central St.)\, tel: (978) 970-1250;
URL:https://maps-inc.org/community-calendar/lowell-free-walk-in-health-clinic-4/2028-09-11/
LOCATION:Massachusetts Alliance of Portuguese Speakers | Lowell\, 490 Central St\, Lowell\, MA 01852\, USA
END:VEVENT
BEGIN:VEVENT
DTSTART;TZID=America/New_York:20280918T160000
DTEND;TZID=America/New_York:20280918T180000
DTSTAMP:20260420T115638
CREATED:20240506T135549Z
LAST-MODIFIED:20240910T184736Z
UID:10001059-1852905600-1852912800@maps-inc.org
SUMMARY:LOWELL: No-Cost HIV/STI Health Clinic
DESCRIPTION:Free\, quick and confidential tests to HIV and other Sexually Transmitted Infections. \nFor more information: MAPS Lowell Office (490 Central St.)\, tel: (978) 970-1250;
URL:https://maps-inc.org/community-calendar/lowell-free-walk-in-health-clinic-4/2028-09-18/
LOCATION:Massachusetts Alliance of Portuguese Speakers | Lowell\, 490 Central St\, Lowell\, MA 01852\, USA
END:VEVENT
BEGIN:VEVENT
DTSTART;TZID=America/New_York:20280925T160000
DTEND;TZID=America/New_York:20280925T180000
DTSTAMP:20260420T115638
CREATED:20240506T135549Z
LAST-MODIFIED:20240910T184736Z
UID:10001060-1853510400-1853517600@maps-inc.org
SUMMARY:LOWELL: No-Cost HIV/STI Health Clinic
DESCRIPTION:Free\, quick and confidential tests to HIV and other Sexually Transmitted Infections. \nFor more information: MAPS Lowell Office (490 Central St.)\, tel: (978) 970-1250;
URL:https://maps-inc.org/community-calendar/lowell-free-walk-in-health-clinic-4/2028-09-25/
LOCATION:Massachusetts Alliance of Portuguese Speakers | Lowell\, 490 Central St\, Lowell\, MA 01852\, USA
END:VEVENT
BEGIN:VEVENT
DTSTART;TZID=America/New_York:20281002T160000
DTEND;TZID=America/New_York:20281002T180000
DTSTAMP:20260420T115638
CREATED:20240506T135549Z
LAST-MODIFIED:20240910T184736Z
UID:10001061-1854115200-1854122400@maps-inc.org
SUMMARY:LOWELL: No-Cost HIV/STI Health Clinic
DESCRIPTION:Free\, quick and confidential tests to HIV and other Sexually Transmitted Infections. \nFor more information: MAPS Lowell Office (490 Central St.)\, tel: (978) 970-1250;
URL:https://maps-inc.org/community-calendar/lowell-free-walk-in-health-clinic-4/2028-10-02/
LOCATION:Massachusetts Alliance of Portuguese Speakers | Lowell\, 490 Central St\, Lowell\, MA 01852\, USA
END:VEVENT
BEGIN:VEVENT
DTSTART;TZID=America/New_York:20281009T160000
DTEND;TZID=America/New_York:20281009T180000
DTSTAMP:20260420T115638
CREATED:20240506T135549Z
LAST-MODIFIED:20240910T184736Z
UID:10001062-1854720000-1854727200@maps-inc.org
SUMMARY:LOWELL: No-Cost HIV/STI Health Clinic
DESCRIPTION:Free\, quick and confidential tests to HIV and other Sexually Transmitted Infections. \nFor more information: MAPS Lowell Office (490 Central St.)\, tel: (978) 970-1250;
URL:https://maps-inc.org/community-calendar/lowell-free-walk-in-health-clinic-4/2028-10-09/
LOCATION:Massachusetts Alliance of Portuguese Speakers | Lowell\, 490 Central St\, Lowell\, MA 01852\, USA
END:VEVENT
BEGIN:VEVENT
DTSTART;TZID=America/New_York:20281016T160000
DTEND;TZID=America/New_York:20281016T180000
DTSTAMP:20260420T115638
CREATED:20240506T135549Z
LAST-MODIFIED:20240910T184736Z
UID:10001063-1855324800-1855332000@maps-inc.org
SUMMARY:LOWELL: No-Cost HIV/STI Health Clinic
DESCRIPTION:Free\, quick and confidential tests to HIV and other Sexually Transmitted Infections. \nFor more information: MAPS Lowell Office (490 Central St.)\, tel: (978) 970-1250;
URL:https://maps-inc.org/community-calendar/lowell-free-walk-in-health-clinic-4/2028-10-16/
LOCATION:Massachusetts Alliance of Portuguese Speakers | Lowell\, 490 Central St\, Lowell\, MA 01852\, USA
END:VEVENT
BEGIN:VEVENT
DTSTART;TZID=America/New_York:20281023T160000
DTEND;TZID=America/New_York:20281023T180000
DTSTAMP:20260420T115638
CREATED:20240506T135549Z
LAST-MODIFIED:20240910T184736Z
UID:10001064-1855929600-1855936800@maps-inc.org
SUMMARY:LOWELL: No-Cost HIV/STI Health Clinic
DESCRIPTION:Free\, quick and confidential tests to HIV and other Sexually Transmitted Infections. \nFor more information: MAPS Lowell Office (490 Central St.)\, tel: (978) 970-1250;
URL:https://maps-inc.org/community-calendar/lowell-free-walk-in-health-clinic-4/2028-10-23/
LOCATION:Massachusetts Alliance of Portuguese Speakers | Lowell\, 490 Central St\, Lowell\, MA 01852\, USA
END:VEVENT
BEGIN:VEVENT
DTSTART;TZID=America/New_York:20281030T160000
DTEND;TZID=America/New_York:20281030T180000
DTSTAMP:20260420T115638
CREATED:20240506T135549Z
LAST-MODIFIED:20240910T184736Z
UID:10001065-1856534400-1856541600@maps-inc.org
SUMMARY:LOWELL: No-Cost HIV/STI Health Clinic
DESCRIPTION:Free\, quick and confidential tests to HIV and other Sexually Transmitted Infections. \nFor more information: MAPS Lowell Office (490 Central St.)\, tel: (978) 970-1250;
URL:https://maps-inc.org/community-calendar/lowell-free-walk-in-health-clinic-4/2028-10-30/
LOCATION:Massachusetts Alliance of Portuguese Speakers | Lowell\, 490 Central St\, Lowell\, MA 01852\, USA
END:VEVENT
BEGIN:VEVENT
DTSTART;TZID=America/New_York:20281106T160000
DTEND;TZID=America/New_York:20281106T180000
DTSTAMP:20260420T115638
CREATED:20240506T135549Z
LAST-MODIFIED:20240910T184736Z
UID:10001066-1857139200-1857146400@maps-inc.org
SUMMARY:LOWELL: No-Cost HIV/STI Health Clinic
DESCRIPTION:Free\, quick and confidential tests to HIV and other Sexually Transmitted Infections. \nFor more information: MAPS Lowell Office (490 Central St.)\, tel: (978) 970-1250;
URL:https://maps-inc.org/community-calendar/lowell-free-walk-in-health-clinic-4/2028-11-06/
LOCATION:Massachusetts Alliance of Portuguese Speakers | Lowell\, 490 Central St\, Lowell\, MA 01852\, USA
END:VEVENT
BEGIN:VEVENT
DTSTART;TZID=America/New_York:20281113T160000
DTEND;TZID=America/New_York:20281113T180000
DTSTAMP:20260420T115638
CREATED:20240506T135549Z
LAST-MODIFIED:20240910T184736Z
UID:10001067-1857744000-1857751200@maps-inc.org
SUMMARY:LOWELL: No-Cost HIV/STI Health Clinic
DESCRIPTION:Free\, quick and confidential tests to HIV and other Sexually Transmitted Infections. \nFor more information: MAPS Lowell Office (490 Central St.)\, tel: (978) 970-1250;
URL:https://maps-inc.org/community-calendar/lowell-free-walk-in-health-clinic-4/2028-11-13/
LOCATION:Massachusetts Alliance of Portuguese Speakers | Lowell\, 490 Central St\, Lowell\, MA 01852\, USA
END:VEVENT
BEGIN:VEVENT
DTSTART;TZID=America/New_York:20281120T160000
DTEND;TZID=America/New_York:20281120T180000
DTSTAMP:20260420T115638
CREATED:20240506T135549Z
LAST-MODIFIED:20240910T184736Z
UID:10001068-1858348800-1858356000@maps-inc.org
SUMMARY:LOWELL: No-Cost HIV/STI Health Clinic
DESCRIPTION:Free\, quick and confidential tests to HIV and other Sexually Transmitted Infections. \nFor more information: MAPS Lowell Office (490 Central St.)\, tel: (978) 970-1250;
URL:https://maps-inc.org/community-calendar/lowell-free-walk-in-health-clinic-4/2028-11-20/
LOCATION:Massachusetts Alliance of Portuguese Speakers | Lowell\, 490 Central St\, Lowell\, MA 01852\, USA
END:VEVENT
BEGIN:VEVENT
DTSTART;TZID=America/New_York:20281127T160000
DTEND;TZID=America/New_York:20281127T180000
DTSTAMP:20260420T115638
CREATED:20240506T135549Z
LAST-MODIFIED:20240910T184736Z
UID:10001069-1858953600-1858960800@maps-inc.org
SUMMARY:LOWELL: No-Cost HIV/STI Health Clinic
DESCRIPTION:Free\, quick and confidential tests to HIV and other Sexually Transmitted Infections. \nFor more information: MAPS Lowell Office (490 Central St.)\, tel: (978) 970-1250;
URL:https://maps-inc.org/community-calendar/lowell-free-walk-in-health-clinic-4/2028-11-27/
LOCATION:Massachusetts Alliance of Portuguese Speakers | Lowell\, 490 Central St\, Lowell\, MA 01852\, USA
END:VEVENT
BEGIN:VEVENT
DTSTART;TZID=America/New_York:20281204T160000
DTEND;TZID=America/New_York:20281204T180000
DTSTAMP:20260420T115638
CREATED:20240506T135549Z
LAST-MODIFIED:20240910T184736Z
UID:10001070-1859558400-1859565600@maps-inc.org
SUMMARY:LOWELL: No-Cost HIV/STI Health Clinic
DESCRIPTION:Free\, quick and confidential tests to HIV and other Sexually Transmitted Infections. \nFor more information: MAPS Lowell Office (490 Central St.)\, tel: (978) 970-1250;
URL:https://maps-inc.org/community-calendar/lowell-free-walk-in-health-clinic-4/2028-12-04/
LOCATION:Massachusetts Alliance of Portuguese Speakers | Lowell\, 490 Central St\, Lowell\, MA 01852\, USA
END:VEVENT
BEGIN:VEVENT
DTSTART;TZID=America/New_York:20281211T160000
DTEND;TZID=America/New_York:20281211T180000
DTSTAMP:20260420T115638
CREATED:20240506T135549Z
LAST-MODIFIED:20240910T184736Z
UID:10001071-1860163200-1860170400@maps-inc.org
SUMMARY:LOWELL: No-Cost HIV/STI Health Clinic
DESCRIPTION:Free\, quick and confidential tests to HIV and other Sexually Transmitted Infections. \nFor more information: MAPS Lowell Office (490 Central St.)\, tel: (978) 970-1250;
URL:https://maps-inc.org/community-calendar/lowell-free-walk-in-health-clinic-4/2028-12-11/
LOCATION:Massachusetts Alliance of Portuguese Speakers | Lowell\, 490 Central St\, Lowell\, MA 01852\, USA
END:VEVENT
BEGIN:VEVENT
DTSTART;TZID=America/New_York:20281218T160000
DTEND;TZID=America/New_York:20281218T180000
DTSTAMP:20260420T115638
CREATED:20240506T135549Z
LAST-MODIFIED:20240910T184736Z
UID:10001072-1860768000-1860775200@maps-inc.org
SUMMARY:LOWELL: No-Cost HIV/STI Health Clinic
DESCRIPTION:Free\, quick and confidential tests to HIV and other Sexually Transmitted Infections. \nFor more information: MAPS Lowell Office (490 Central St.)\, tel: (978) 970-1250;
URL:https://maps-inc.org/community-calendar/lowell-free-walk-in-health-clinic-4/2028-12-18/
LOCATION:Massachusetts Alliance of Portuguese Speakers | Lowell\, 490 Central St\, Lowell\, MA 01852\, USA
END:VEVENT
BEGIN:VEVENT
DTSTART;TZID=America/New_York:20281225T160000
DTEND;TZID=America/New_York:20281225T180000
DTSTAMP:20260420T115638
CREATED:20240506T135549Z
LAST-MODIFIED:20240910T184736Z
UID:10001073-1861372800-1861380000@maps-inc.org
SUMMARY:LOWELL: No-Cost HIV/STI Health Clinic
DESCRIPTION:Free\, quick and confidential tests to HIV and other Sexually Transmitted Infections. \nFor more information: MAPS Lowell Office (490 Central St.)\, tel: (978) 970-1250;
URL:https://maps-inc.org/community-calendar/lowell-free-walk-in-health-clinic-4/2028-12-25/
LOCATION:Massachusetts Alliance of Portuguese Speakers | Lowell\, 490 Central St\, Lowell\, MA 01852\, USA
END:VEVENT
BEGIN:VEVENT
DTSTART;TZID=America/New_York:20290101T160000
DTEND;TZID=America/New_York:20290101T180000
DTSTAMP:20260420T115638
CREATED:20240506T135549Z
LAST-MODIFIED:20240910T184736Z
UID:10001074-1861977600-1861984800@maps-inc.org
SUMMARY:LOWELL: No-Cost HIV/STI Health Clinic
DESCRIPTION:Free\, quick and confidential tests to HIV and other Sexually Transmitted Infections. \nFor more information: MAPS Lowell Office (490 Central St.)\, tel: (978) 970-1250;
URL:https://maps-inc.org/community-calendar/lowell-free-walk-in-health-clinic-4/2029-01-01/
LOCATION:Massachusetts Alliance of Portuguese Speakers | Lowell\, 490 Central St\, Lowell\, MA 01852\, USA
END:VEVENT
BEGIN:VEVENT
DTSTART;TZID=America/New_York:20290108T160000
DTEND;TZID=America/New_York:20290108T180000
DTSTAMP:20260420T115638
CREATED:20240506T135549Z
LAST-MODIFIED:20240910T184736Z
UID:10001075-1862582400-1862589600@maps-inc.org
SUMMARY:LOWELL: No-Cost HIV/STI Health Clinic
DESCRIPTION:Free\, quick and confidential tests to HIV and other Sexually Transmitted Infections. \nFor more information: MAPS Lowell Office (490 Central St.)\, tel: (978) 970-1250;
URL:https://maps-inc.org/community-calendar/lowell-free-walk-in-health-clinic-4/2029-01-08/
LOCATION:Massachusetts Alliance of Portuguese Speakers | Lowell\, 490 Central St\, Lowell\, MA 01852\, USA
END:VEVENT
BEGIN:VEVENT
DTSTART;TZID=America/New_York:20290115T160000
DTEND;TZID=America/New_York:20290115T180000
DTSTAMP:20260420T115638
CREATED:20240506T135549Z
LAST-MODIFIED:20240910T184736Z
UID:10001076-1863187200-1863194400@maps-inc.org
SUMMARY:LOWELL: No-Cost HIV/STI Health Clinic
DESCRIPTION:Free\, quick and confidential tests to HIV and other Sexually Transmitted Infections. \nFor more information: MAPS Lowell Office (490 Central St.)\, tel: (978) 970-1250;
URL:https://maps-inc.org/community-calendar/lowell-free-walk-in-health-clinic-4/2029-01-15/
LOCATION:Massachusetts Alliance of Portuguese Speakers | Lowell\, 490 Central St\, Lowell\, MA 01852\, USA
END:VEVENT
BEGIN:VEVENT
DTSTART;TZID=America/New_York:20290122T160000
DTEND;TZID=America/New_York:20290122T180000
DTSTAMP:20260420T115638
CREATED:20240506T135549Z
LAST-MODIFIED:20240910T184736Z
UID:10001077-1863792000-1863799200@maps-inc.org
SUMMARY:LOWELL: No-Cost HIV/STI Health Clinic
DESCRIPTION:Free\, quick and confidential tests to HIV and other Sexually Transmitted Infections. \nFor more information: MAPS Lowell Office (490 Central St.)\, tel: (978) 970-1250;
URL:https://maps-inc.org/community-calendar/lowell-free-walk-in-health-clinic-4/2029-01-22/
LOCATION:Massachusetts Alliance of Portuguese Speakers | Lowell\, 490 Central St\, Lowell\, MA 01852\, USA
END:VEVENT
BEGIN:VEVENT
DTSTART;TZID=America/New_York:20290129T160000
DTEND;TZID=America/New_York:20290129T180000
DTSTAMP:20260420T115638
CREATED:20240506T135549Z
LAST-MODIFIED:20240910T184736Z
UID:10001078-1864396800-1864404000@maps-inc.org
SUMMARY:LOWELL: No-Cost HIV/STI Health Clinic
DESCRIPTION:Free\, quick and confidential tests to HIV and other Sexually Transmitted Infections. \nFor more information: MAPS Lowell Office (490 Central St.)\, tel: (978) 970-1250;
URL:https://maps-inc.org/community-calendar/lowell-free-walk-in-health-clinic-4/2029-01-29/
LOCATION:Massachusetts Alliance of Portuguese Speakers | Lowell\, 490 Central St\, Lowell\, MA 01852\, USA
END:VEVENT
BEGIN:VEVENT
DTSTART;TZID=America/New_York:20290205T160000
DTEND;TZID=America/New_York:20290205T180000
DTSTAMP:20260420T115638
CREATED:20240506T135549Z
LAST-MODIFIED:20240910T184736Z
UID:10001079-1865001600-1865008800@maps-inc.org
SUMMARY:LOWELL: No-Cost HIV/STI Health Clinic
DESCRIPTION:Free\, quick and confidential tests to HIV and other Sexually Transmitted Infections. \nFor more information: MAPS Lowell Office (490 Central St.)\, tel: (978) 970-1250;
URL:https://maps-inc.org/community-calendar/lowell-free-walk-in-health-clinic-4/2029-02-05/
LOCATION:Massachusetts Alliance of Portuguese Speakers | Lowell\, 490 Central St\, Lowell\, MA 01852\, USA
END:VEVENT
BEGIN:VEVENT
DTSTART;TZID=America/New_York:20290212T160000
DTEND;TZID=America/New_York:20290212T180000
DTSTAMP:20260420T115638
CREATED:20240506T135549Z
LAST-MODIFIED:20240910T184736Z
UID:10001080-1865606400-1865613600@maps-inc.org
SUMMARY:LOWELL: No-Cost HIV/STI Health Clinic
DESCRIPTION:Free\, quick and confidential tests to HIV and other Sexually Transmitted Infections. \nFor more information: MAPS Lowell Office (490 Central St.)\, tel: (978) 970-1250;
URL:https://maps-inc.org/community-calendar/lowell-free-walk-in-health-clinic-4/2029-02-12/
LOCATION:Massachusetts Alliance of Portuguese Speakers | Lowell\, 490 Central St\, Lowell\, MA 01852\, USA
END:VEVENT
BEGIN:VEVENT
DTSTART;TZID=America/New_York:20290219T160000
DTEND;TZID=America/New_York:20290219T180000
DTSTAMP:20260420T115638
CREATED:20240506T135549Z
LAST-MODIFIED:20240910T184736Z
UID:10001081-1866211200-1866218400@maps-inc.org
SUMMARY:LOWELL: No-Cost HIV/STI Health Clinic
DESCRIPTION:Free\, quick and confidential tests to HIV and other Sexually Transmitted Infections. \nFor more information: MAPS Lowell Office (490 Central St.)\, tel: (978) 970-1250;
URL:https://maps-inc.org/community-calendar/lowell-free-walk-in-health-clinic-4/2029-02-19/
LOCATION:Massachusetts Alliance of Portuguese Speakers | Lowell\, 490 Central St\, Lowell\, MA 01852\, USA
END:VEVENT
BEGIN:VEVENT
DTSTART;TZID=America/New_York:20290226T160000
DTEND;TZID=America/New_York:20290226T180000
DTSTAMP:20260420T115638
CREATED:20240506T135549Z
LAST-MODIFIED:20240910T184736Z
UID:10001082-1866816000-1866823200@maps-inc.org
SUMMARY:LOWELL: No-Cost HIV/STI Health Clinic
DESCRIPTION:Free\, quick and confidential tests to HIV and other Sexually Transmitted Infections. \nFor more information: MAPS Lowell Office (490 Central St.)\, tel: (978) 970-1250;
URL:https://maps-inc.org/community-calendar/lowell-free-walk-in-health-clinic-4/2029-02-26/
LOCATION:Massachusetts Alliance of Portuguese Speakers | Lowell\, 490 Central St\, Lowell\, MA 01852\, USA
END:VEVENT
END:VCALENDAR