BEGIN:VCALENDAR
VERSION:2.0
PRODID:-//Massachusetts Alliance of Portuguese Speakers - ECPv6.15.7//NONSGML v1.0//EN
CALSCALE:GREGORIAN
METHOD:PUBLISH
X-WR-CALNAME:Massachusetts Alliance of Portuguese Speakers
X-ORIGINAL-URL:https://maps-inc.org
X-WR-CALDESC:Events for Massachusetts Alliance of Portuguese Speakers
REFRESH-INTERVAL;VALUE=DURATION:PT1H
X-Robots-Tag:noindex
X-PUBLISHED-TTL:PT1H
BEGIN:VTIMEZONE
TZID:America/New_York
BEGIN:DAYLIGHT
TZOFFSETFROM:-0500
TZOFFSETTO:-0400
TZNAME:EDT
DTSTART:20280312T070000
END:DAYLIGHT
BEGIN:STANDARD
TZOFFSETFROM:-0400
TZOFFSETTO:-0500
TZNAME:EST
DTSTART:20281105T060000
END:STANDARD
BEGIN:DAYLIGHT
TZOFFSETFROM:-0500
TZOFFSETTO:-0400
TZNAME:EDT
DTSTART:20290311T070000
END:DAYLIGHT
BEGIN:STANDARD
TZOFFSETFROM:-0400
TZOFFSETTO:-0500
TZNAME:EST
DTSTART:20291104T060000
END:STANDARD
BEGIN:DAYLIGHT
TZOFFSETFROM:-0500
TZOFFSETTO:-0400
TZNAME:EDT
DTSTART:20300310T070000
END:DAYLIGHT
BEGIN:STANDARD
TZOFFSETFROM:-0400
TZOFFSETTO:-0500
TZNAME:EST
DTSTART:20301103T060000
END:STANDARD
BEGIN:DAYLIGHT
TZOFFSETFROM:-0500
TZOFFSETTO:-0400
TZNAME:EDT
DTSTART:20310309T070000
END:DAYLIGHT
BEGIN:STANDARD
TZOFFSETFROM:-0400
TZOFFSETTO:-0500
TZNAME:EST
DTSTART:20311102T060000
END:STANDARD
END:VTIMEZONE
BEGIN:VEVENT
DTSTART;TZID=America/New_York:20290716T160000
DTEND;TZID=America/New_York:20290716T180000
DTSTAMP:20260420T192049
CREATED:20240506T135549Z
LAST-MODIFIED:20240910T184736Z
UID:10004616-1878912000-1878919200@maps-inc.org
SUMMARY:LOWELL: No-Cost HIV/STI Health Clinic
DESCRIPTION:Free\, quick and confidential tests to HIV and other Sexually Transmitted Infections. \nFor more information: MAPS Lowell Office (490 Central St.)\, tel: (978) 970-1250;
URL:https://maps-inc.org/community-calendar/lowell-free-walk-in-health-clinic-4/2029-07-16/
LOCATION:Massachusetts Alliance of Portuguese Speakers | Lowell\, 490 Central St\, Lowell\, MA 01852\, USA
END:VEVENT
BEGIN:VEVENT
DTSTART;TZID=America/New_York:20290723T160000
DTEND;TZID=America/New_York:20290723T180000
DTSTAMP:20260420T192049
CREATED:20240506T135549Z
LAST-MODIFIED:20240910T184736Z
UID:10004617-1879516800-1879524000@maps-inc.org
SUMMARY:LOWELL: No-Cost HIV/STI Health Clinic
DESCRIPTION:Free\, quick and confidential tests to HIV and other Sexually Transmitted Infections. \nFor more information: MAPS Lowell Office (490 Central St.)\, tel: (978) 970-1250;
URL:https://maps-inc.org/community-calendar/lowell-free-walk-in-health-clinic-4/2029-07-23/
LOCATION:Massachusetts Alliance of Portuguese Speakers | Lowell\, 490 Central St\, Lowell\, MA 01852\, USA
END:VEVENT
BEGIN:VEVENT
DTSTART;TZID=America/New_York:20290730T160000
DTEND;TZID=America/New_York:20290730T180000
DTSTAMP:20260420T192049
CREATED:20240506T135549Z
LAST-MODIFIED:20240910T184736Z
UID:10004618-1880121600-1880128800@maps-inc.org
SUMMARY:LOWELL: No-Cost HIV/STI Health Clinic
DESCRIPTION:Free\, quick and confidential tests to HIV and other Sexually Transmitted Infections. \nFor more information: MAPS Lowell Office (490 Central St.)\, tel: (978) 970-1250;
URL:https://maps-inc.org/community-calendar/lowell-free-walk-in-health-clinic-4/2029-07-30/
LOCATION:Massachusetts Alliance of Portuguese Speakers | Lowell\, 490 Central St\, Lowell\, MA 01852\, USA
END:VEVENT
BEGIN:VEVENT
DTSTART;TZID=America/New_York:20290806T160000
DTEND;TZID=America/New_York:20290806T180000
DTSTAMP:20260420T192049
CREATED:20240506T135549Z
LAST-MODIFIED:20240910T184736Z
UID:10004619-1880726400-1880733600@maps-inc.org
SUMMARY:LOWELL: No-Cost HIV/STI Health Clinic
DESCRIPTION:Free\, quick and confidential tests to HIV and other Sexually Transmitted Infections. \nFor more information: MAPS Lowell Office (490 Central St.)\, tel: (978) 970-1250;
URL:https://maps-inc.org/community-calendar/lowell-free-walk-in-health-clinic-4/2029-08-06/
LOCATION:Massachusetts Alliance of Portuguese Speakers | Lowell\, 490 Central St\, Lowell\, MA 01852\, USA
END:VEVENT
BEGIN:VEVENT
DTSTART;TZID=America/New_York:20290813T160000
DTEND;TZID=America/New_York:20290813T180000
DTSTAMP:20260420T192049
CREATED:20240506T135549Z
LAST-MODIFIED:20240910T184736Z
UID:10004620-1881331200-1881338400@maps-inc.org
SUMMARY:LOWELL: No-Cost HIV/STI Health Clinic
DESCRIPTION:Free\, quick and confidential tests to HIV and other Sexually Transmitted Infections. \nFor more information: MAPS Lowell Office (490 Central St.)\, tel: (978) 970-1250;
URL:https://maps-inc.org/community-calendar/lowell-free-walk-in-health-clinic-4/2029-08-13/
LOCATION:Massachusetts Alliance of Portuguese Speakers | Lowell\, 490 Central St\, Lowell\, MA 01852\, USA
END:VEVENT
BEGIN:VEVENT
DTSTART;TZID=America/New_York:20290820T160000
DTEND;TZID=America/New_York:20290820T180000
DTSTAMP:20260420T192049
CREATED:20240506T135549Z
LAST-MODIFIED:20240910T184736Z
UID:10004621-1881936000-1881943200@maps-inc.org
SUMMARY:LOWELL: No-Cost HIV/STI Health Clinic
DESCRIPTION:Free\, quick and confidential tests to HIV and other Sexually Transmitted Infections. \nFor more information: MAPS Lowell Office (490 Central St.)\, tel: (978) 970-1250;
URL:https://maps-inc.org/community-calendar/lowell-free-walk-in-health-clinic-4/2029-08-20/
LOCATION:Massachusetts Alliance of Portuguese Speakers | Lowell\, 490 Central St\, Lowell\, MA 01852\, USA
END:VEVENT
BEGIN:VEVENT
DTSTART;TZID=America/New_York:20290827T160000
DTEND;TZID=America/New_York:20290827T180000
DTSTAMP:20260420T192049
CREATED:20240506T135549Z
LAST-MODIFIED:20240910T184736Z
UID:10004622-1882540800-1882548000@maps-inc.org
SUMMARY:LOWELL: No-Cost HIV/STI Health Clinic
DESCRIPTION:Free\, quick and confidential tests to HIV and other Sexually Transmitted Infections. \nFor more information: MAPS Lowell Office (490 Central St.)\, tel: (978) 970-1250;
URL:https://maps-inc.org/community-calendar/lowell-free-walk-in-health-clinic-4/2029-08-27/
LOCATION:Massachusetts Alliance of Portuguese Speakers | Lowell\, 490 Central St\, Lowell\, MA 01852\, USA
END:VEVENT
BEGIN:VEVENT
DTSTART;TZID=America/New_York:20290903T160000
DTEND;TZID=America/New_York:20290903T180000
DTSTAMP:20260420T192049
CREATED:20240506T135549Z
LAST-MODIFIED:20240910T184736Z
UID:10004623-1883145600-1883152800@maps-inc.org
SUMMARY:LOWELL: No-Cost HIV/STI Health Clinic
DESCRIPTION:Free\, quick and confidential tests to HIV and other Sexually Transmitted Infections. \nFor more information: MAPS Lowell Office (490 Central St.)\, tel: (978) 970-1250;
URL:https://maps-inc.org/community-calendar/lowell-free-walk-in-health-clinic-4/2029-09-03/
LOCATION:Massachusetts Alliance of Portuguese Speakers | Lowell\, 490 Central St\, Lowell\, MA 01852\, USA
END:VEVENT
BEGIN:VEVENT
DTSTART;TZID=America/New_York:20290910T160000
DTEND;TZID=America/New_York:20290910T180000
DTSTAMP:20260420T192049
CREATED:20240506T135549Z
LAST-MODIFIED:20240910T184736Z
UID:10004624-1883750400-1883757600@maps-inc.org
SUMMARY:LOWELL: No-Cost HIV/STI Health Clinic
DESCRIPTION:Free\, quick and confidential tests to HIV and other Sexually Transmitted Infections. \nFor more information: MAPS Lowell Office (490 Central St.)\, tel: (978) 970-1250;
URL:https://maps-inc.org/community-calendar/lowell-free-walk-in-health-clinic-4/2029-09-10/
LOCATION:Massachusetts Alliance of Portuguese Speakers | Lowell\, 490 Central St\, Lowell\, MA 01852\, USA
END:VEVENT
BEGIN:VEVENT
DTSTART;TZID=America/New_York:20290917T160000
DTEND;TZID=America/New_York:20290917T180000
DTSTAMP:20260420T192049
CREATED:20240506T135549Z
LAST-MODIFIED:20240910T184736Z
UID:10004625-1884355200-1884362400@maps-inc.org
SUMMARY:LOWELL: No-Cost HIV/STI Health Clinic
DESCRIPTION:Free\, quick and confidential tests to HIV and other Sexually Transmitted Infections. \nFor more information: MAPS Lowell Office (490 Central St.)\, tel: (978) 970-1250;
URL:https://maps-inc.org/community-calendar/lowell-free-walk-in-health-clinic-4/2029-09-17/
LOCATION:Massachusetts Alliance of Portuguese Speakers | Lowell\, 490 Central St\, Lowell\, MA 01852\, USA
END:VEVENT
BEGIN:VEVENT
DTSTART;TZID=America/New_York:20290924T160000
DTEND;TZID=America/New_York:20290924T180000
DTSTAMP:20260420T192049
CREATED:20240506T135549Z
LAST-MODIFIED:20240910T184736Z
UID:10004626-1884960000-1884967200@maps-inc.org
SUMMARY:LOWELL: No-Cost HIV/STI Health Clinic
DESCRIPTION:Free\, quick and confidential tests to HIV and other Sexually Transmitted Infections. \nFor more information: MAPS Lowell Office (490 Central St.)\, tel: (978) 970-1250;
URL:https://maps-inc.org/community-calendar/lowell-free-walk-in-health-clinic-4/2029-09-24/
LOCATION:Massachusetts Alliance of Portuguese Speakers | Lowell\, 490 Central St\, Lowell\, MA 01852\, USA
END:VEVENT
BEGIN:VEVENT
DTSTART;TZID=America/New_York:20291001T160000
DTEND;TZID=America/New_York:20291001T180000
DTSTAMP:20260420T192049
CREATED:20240506T135549Z
LAST-MODIFIED:20240910T184736Z
UID:10004627-1885564800-1885572000@maps-inc.org
SUMMARY:LOWELL: No-Cost HIV/STI Health Clinic
DESCRIPTION:Free\, quick and confidential tests to HIV and other Sexually Transmitted Infections. \nFor more information: MAPS Lowell Office (490 Central St.)\, tel: (978) 970-1250;
URL:https://maps-inc.org/community-calendar/lowell-free-walk-in-health-clinic-4/2029-10-01/
LOCATION:Massachusetts Alliance of Portuguese Speakers | Lowell\, 490 Central St\, Lowell\, MA 01852\, USA
END:VEVENT
BEGIN:VEVENT
DTSTART;TZID=America/New_York:20291008T160000
DTEND;TZID=America/New_York:20291008T180000
DTSTAMP:20260420T192049
CREATED:20240506T135549Z
LAST-MODIFIED:20240910T184736Z
UID:10004628-1886169600-1886176800@maps-inc.org
SUMMARY:LOWELL: No-Cost HIV/STI Health Clinic
DESCRIPTION:Free\, quick and confidential tests to HIV and other Sexually Transmitted Infections. \nFor more information: MAPS Lowell Office (490 Central St.)\, tel: (978) 970-1250;
URL:https://maps-inc.org/community-calendar/lowell-free-walk-in-health-clinic-4/2029-10-08/
LOCATION:Massachusetts Alliance of Portuguese Speakers | Lowell\, 490 Central St\, Lowell\, MA 01852\, USA
END:VEVENT
BEGIN:VEVENT
DTSTART;TZID=America/New_York:20291015T160000
DTEND;TZID=America/New_York:20291015T180000
DTSTAMP:20260420T192049
CREATED:20240506T135549Z
LAST-MODIFIED:20240910T184736Z
UID:10004629-1886774400-1886781600@maps-inc.org
SUMMARY:LOWELL: No-Cost HIV/STI Health Clinic
DESCRIPTION:Free\, quick and confidential tests to HIV and other Sexually Transmitted Infections. \nFor more information: MAPS Lowell Office (490 Central St.)\, tel: (978) 970-1250;
URL:https://maps-inc.org/community-calendar/lowell-free-walk-in-health-clinic-4/2029-10-15/
LOCATION:Massachusetts Alliance of Portuguese Speakers | Lowell\, 490 Central St\, Lowell\, MA 01852\, USA
END:VEVENT
BEGIN:VEVENT
DTSTART;TZID=America/New_York:20291022T160000
DTEND;TZID=America/New_York:20291022T180000
DTSTAMP:20260420T192049
CREATED:20240506T135549Z
LAST-MODIFIED:20240910T184736Z
UID:10004630-1887379200-1887386400@maps-inc.org
SUMMARY:LOWELL: No-Cost HIV/STI Health Clinic
DESCRIPTION:Free\, quick and confidential tests to HIV and other Sexually Transmitted Infections. \nFor more information: MAPS Lowell Office (490 Central St.)\, tel: (978) 970-1250;
URL:https://maps-inc.org/community-calendar/lowell-free-walk-in-health-clinic-4/2029-10-22/
LOCATION:Massachusetts Alliance of Portuguese Speakers | Lowell\, 490 Central St\, Lowell\, MA 01852\, USA
END:VEVENT
BEGIN:VEVENT
DTSTART;TZID=America/New_York:20291029T160000
DTEND;TZID=America/New_York:20291029T180000
DTSTAMP:20260420T192049
CREATED:20240506T135549Z
LAST-MODIFIED:20240910T184736Z
UID:10004631-1887984000-1887991200@maps-inc.org
SUMMARY:LOWELL: No-Cost HIV/STI Health Clinic
DESCRIPTION:Free\, quick and confidential tests to HIV and other Sexually Transmitted Infections. \nFor more information: MAPS Lowell Office (490 Central St.)\, tel: (978) 970-1250;
URL:https://maps-inc.org/community-calendar/lowell-free-walk-in-health-clinic-4/2029-10-29/
LOCATION:Massachusetts Alliance of Portuguese Speakers | Lowell\, 490 Central St\, Lowell\, MA 01852\, USA
END:VEVENT
BEGIN:VEVENT
DTSTART;TZID=America/New_York:20291105T160000
DTEND;TZID=America/New_York:20291105T180000
DTSTAMP:20260420T192049
CREATED:20240506T135549Z
LAST-MODIFIED:20240910T184736Z
UID:10004632-1888588800-1888596000@maps-inc.org
SUMMARY:LOWELL: No-Cost HIV/STI Health Clinic
DESCRIPTION:Free\, quick and confidential tests to HIV and other Sexually Transmitted Infections. \nFor more information: MAPS Lowell Office (490 Central St.)\, tel: (978) 970-1250;
URL:https://maps-inc.org/community-calendar/lowell-free-walk-in-health-clinic-4/2029-11-05/
LOCATION:Massachusetts Alliance of Portuguese Speakers | Lowell\, 490 Central St\, Lowell\, MA 01852\, USA
END:VEVENT
BEGIN:VEVENT
DTSTART;TZID=America/New_York:20291112T160000
DTEND;TZID=America/New_York:20291112T180000
DTSTAMP:20260420T192049
CREATED:20240506T135549Z
LAST-MODIFIED:20240910T184736Z
UID:10004633-1889193600-1889200800@maps-inc.org
SUMMARY:LOWELL: No-Cost HIV/STI Health Clinic
DESCRIPTION:Free\, quick and confidential tests to HIV and other Sexually Transmitted Infections. \nFor more information: MAPS Lowell Office (490 Central St.)\, tel: (978) 970-1250;
URL:https://maps-inc.org/community-calendar/lowell-free-walk-in-health-clinic-4/2029-11-12/
LOCATION:Massachusetts Alliance of Portuguese Speakers | Lowell\, 490 Central St\, Lowell\, MA 01852\, USA
END:VEVENT
BEGIN:VEVENT
DTSTART;TZID=America/New_York:20291119T160000
DTEND;TZID=America/New_York:20291119T180000
DTSTAMP:20260420T192049
CREATED:20240506T135549Z
LAST-MODIFIED:20240910T184736Z
UID:10004634-1889798400-1889805600@maps-inc.org
SUMMARY:LOWELL: No-Cost HIV/STI Health Clinic
DESCRIPTION:Free\, quick and confidential tests to HIV and other Sexually Transmitted Infections. \nFor more information: MAPS Lowell Office (490 Central St.)\, tel: (978) 970-1250;
URL:https://maps-inc.org/community-calendar/lowell-free-walk-in-health-clinic-4/2029-11-19/
LOCATION:Massachusetts Alliance of Portuguese Speakers | Lowell\, 490 Central St\, Lowell\, MA 01852\, USA
END:VEVENT
BEGIN:VEVENT
DTSTART;TZID=America/New_York:20291126T160000
DTEND;TZID=America/New_York:20291126T180000
DTSTAMP:20260420T192049
CREATED:20240506T135549Z
LAST-MODIFIED:20240910T184736Z
UID:10004635-1890403200-1890410400@maps-inc.org
SUMMARY:LOWELL: No-Cost HIV/STI Health Clinic
DESCRIPTION:Free\, quick and confidential tests to HIV and other Sexually Transmitted Infections. \nFor more information: MAPS Lowell Office (490 Central St.)\, tel: (978) 970-1250;
URL:https://maps-inc.org/community-calendar/lowell-free-walk-in-health-clinic-4/2029-11-26/
LOCATION:Massachusetts Alliance of Portuguese Speakers | Lowell\, 490 Central St\, Lowell\, MA 01852\, USA
END:VEVENT
BEGIN:VEVENT
DTSTART;TZID=America/New_York:20291203T160000
DTEND;TZID=America/New_York:20291203T180000
DTSTAMP:20260420T192049
CREATED:20240506T135549Z
LAST-MODIFIED:20240910T184736Z
UID:10004636-1891008000-1891015200@maps-inc.org
SUMMARY:LOWELL: No-Cost HIV/STI Health Clinic
DESCRIPTION:Free\, quick and confidential tests to HIV and other Sexually Transmitted Infections. \nFor more information: MAPS Lowell Office (490 Central St.)\, tel: (978) 970-1250;
URL:https://maps-inc.org/community-calendar/lowell-free-walk-in-health-clinic-4/2029-12-03/
LOCATION:Massachusetts Alliance of Portuguese Speakers | Lowell\, 490 Central St\, Lowell\, MA 01852\, USA
END:VEVENT
BEGIN:VEVENT
DTSTART;TZID=America/New_York:20291210T160000
DTEND;TZID=America/New_York:20291210T180000
DTSTAMP:20260420T192049
CREATED:20240506T135549Z
LAST-MODIFIED:20240910T184736Z
UID:10004637-1891612800-1891620000@maps-inc.org
SUMMARY:LOWELL: No-Cost HIV/STI Health Clinic
DESCRIPTION:Free\, quick and confidential tests to HIV and other Sexually Transmitted Infections. \nFor more information: MAPS Lowell Office (490 Central St.)\, tel: (978) 970-1250;
URL:https://maps-inc.org/community-calendar/lowell-free-walk-in-health-clinic-4/2029-12-10/
LOCATION:Massachusetts Alliance of Portuguese Speakers | Lowell\, 490 Central St\, Lowell\, MA 01852\, USA
END:VEVENT
BEGIN:VEVENT
DTSTART;TZID=America/New_York:20291217T160000
DTEND;TZID=America/New_York:20291217T180000
DTSTAMP:20260420T192049
CREATED:20240506T135549Z
LAST-MODIFIED:20240910T184736Z
UID:10004638-1892217600-1892224800@maps-inc.org
SUMMARY:LOWELL: No-Cost HIV/STI Health Clinic
DESCRIPTION:Free\, quick and confidential tests to HIV and other Sexually Transmitted Infections. \nFor more information: MAPS Lowell Office (490 Central St.)\, tel: (978) 970-1250;
URL:https://maps-inc.org/community-calendar/lowell-free-walk-in-health-clinic-4/2029-12-17/
LOCATION:Massachusetts Alliance of Portuguese Speakers | Lowell\, 490 Central St\, Lowell\, MA 01852\, USA
END:VEVENT
BEGIN:VEVENT
DTSTART;TZID=America/New_York:20291224T160000
DTEND;TZID=America/New_York:20291224T180000
DTSTAMP:20260420T192049
CREATED:20240506T135549Z
LAST-MODIFIED:20240910T184736Z
UID:10004639-1892822400-1892829600@maps-inc.org
SUMMARY:LOWELL: No-Cost HIV/STI Health Clinic
DESCRIPTION:Free\, quick and confidential tests to HIV and other Sexually Transmitted Infections. \nFor more information: MAPS Lowell Office (490 Central St.)\, tel: (978) 970-1250;
URL:https://maps-inc.org/community-calendar/lowell-free-walk-in-health-clinic-4/2029-12-24/
LOCATION:Massachusetts Alliance of Portuguese Speakers | Lowell\, 490 Central St\, Lowell\, MA 01852\, USA
END:VEVENT
BEGIN:VEVENT
DTSTART;TZID=America/New_York:20291231T160000
DTEND;TZID=America/New_York:20291231T180000
DTSTAMP:20260420T192049
CREATED:20240506T135549Z
LAST-MODIFIED:20240910T184736Z
UID:10004640-1893427200-1893434400@maps-inc.org
SUMMARY:LOWELL: No-Cost HIV/STI Health Clinic
DESCRIPTION:Free\, quick and confidential tests to HIV and other Sexually Transmitted Infections. \nFor more information: MAPS Lowell Office (490 Central St.)\, tel: (978) 970-1250;
URL:https://maps-inc.org/community-calendar/lowell-free-walk-in-health-clinic-4/2029-12-31/
LOCATION:Massachusetts Alliance of Portuguese Speakers | Lowell\, 490 Central St\, Lowell\, MA 01852\, USA
END:VEVENT
BEGIN:VEVENT
DTSTART;TZID=America/New_York:20300107T160000
DTEND;TZID=America/New_York:20300107T180000
DTSTAMP:20260420T192049
CREATED:20240506T135549Z
LAST-MODIFIED:20240910T184736Z
UID:10004641-1894032000-1894039200@maps-inc.org
SUMMARY:LOWELL: No-Cost HIV/STI Health Clinic
DESCRIPTION:Free\, quick and confidential tests to HIV and other Sexually Transmitted Infections. \nFor more information: MAPS Lowell Office (490 Central St.)\, tel: (978) 970-1250;
URL:https://maps-inc.org/community-calendar/lowell-free-walk-in-health-clinic-4/2030-01-07/
LOCATION:Massachusetts Alliance of Portuguese Speakers | Lowell\, 490 Central St\, Lowell\, MA 01852\, USA
END:VEVENT
BEGIN:VEVENT
DTSTART;TZID=America/New_York:20300114T160000
DTEND;TZID=America/New_York:20300114T180000
DTSTAMP:20260420T192049
CREATED:20240506T135549Z
LAST-MODIFIED:20240910T184736Z
UID:10004642-1894636800-1894644000@maps-inc.org
SUMMARY:LOWELL: No-Cost HIV/STI Health Clinic
DESCRIPTION:Free\, quick and confidential tests to HIV and other Sexually Transmitted Infections. \nFor more information: MAPS Lowell Office (490 Central St.)\, tel: (978) 970-1250;
URL:https://maps-inc.org/community-calendar/lowell-free-walk-in-health-clinic-4/2030-01-14/
LOCATION:Massachusetts Alliance of Portuguese Speakers | Lowell\, 490 Central St\, Lowell\, MA 01852\, USA
END:VEVENT
BEGIN:VEVENT
DTSTART;TZID=America/New_York:20300121T160000
DTEND;TZID=America/New_York:20300121T180000
DTSTAMP:20260420T192049
CREATED:20240506T135549Z
LAST-MODIFIED:20240910T184736Z
UID:10004643-1895241600-1895248800@maps-inc.org
SUMMARY:LOWELL: No-Cost HIV/STI Health Clinic
DESCRIPTION:Free\, quick and confidential tests to HIV and other Sexually Transmitted Infections. \nFor more information: MAPS Lowell Office (490 Central St.)\, tel: (978) 970-1250;
URL:https://maps-inc.org/community-calendar/lowell-free-walk-in-health-clinic-4/2030-01-21/
LOCATION:Massachusetts Alliance of Portuguese Speakers | Lowell\, 490 Central St\, Lowell\, MA 01852\, USA
END:VEVENT
BEGIN:VEVENT
DTSTART;TZID=America/New_York:20300128T160000
DTEND;TZID=America/New_York:20300128T180000
DTSTAMP:20260420T192049
CREATED:20240506T135549Z
LAST-MODIFIED:20240910T184736Z
UID:10004644-1895846400-1895853600@maps-inc.org
SUMMARY:LOWELL: No-Cost HIV/STI Health Clinic
DESCRIPTION:Free\, quick and confidential tests to HIV and other Sexually Transmitted Infections. \nFor more information: MAPS Lowell Office (490 Central St.)\, tel: (978) 970-1250;
URL:https://maps-inc.org/community-calendar/lowell-free-walk-in-health-clinic-4/2030-01-28/
LOCATION:Massachusetts Alliance of Portuguese Speakers | Lowell\, 490 Central St\, Lowell\, MA 01852\, USA
END:VEVENT
BEGIN:VEVENT
DTSTART;TZID=America/New_York:20300204T160000
DTEND;TZID=America/New_York:20300204T180000
DTSTAMP:20260420T192049
CREATED:20240506T135549Z
LAST-MODIFIED:20240910T184736Z
UID:10004645-1896451200-1896458400@maps-inc.org
SUMMARY:LOWELL: No-Cost HIV/STI Health Clinic
DESCRIPTION:Free\, quick and confidential tests to HIV and other Sexually Transmitted Infections. \nFor more information: MAPS Lowell Office (490 Central St.)\, tel: (978) 970-1250;
URL:https://maps-inc.org/community-calendar/lowell-free-walk-in-health-clinic-4/2030-02-04/
LOCATION:Massachusetts Alliance of Portuguese Speakers | Lowell\, 490 Central St\, Lowell\, MA 01852\, USA
END:VEVENT
END:VCALENDAR