BEGIN:VCALENDAR
VERSION:2.0
PRODID:-//Massachusetts Alliance of Portuguese Speakers - ECPv6.15.7//NONSGML v1.0//EN
CALSCALE:GREGORIAN
METHOD:PUBLISH
X-ORIGINAL-URL:https://maps-inc.org
X-WR-CALDESC:Events for Massachusetts Alliance of Portuguese Speakers
REFRESH-INTERVAL;VALUE=DURATION:PT1H
X-Robots-Tag:noindex
X-PUBLISHED-TTL:PT1H
BEGIN:VTIMEZONE
TZID:America/New_York
BEGIN:DAYLIGHT
TZOFFSETFROM:-0500
TZOFFSETTO:-0400
TZNAME:EDT
DTSTART:20270314T070000
END:DAYLIGHT
BEGIN:STANDARD
TZOFFSETFROM:-0400
TZOFFSETTO:-0500
TZNAME:EST
DTSTART:20271107T060000
END:STANDARD
BEGIN:DAYLIGHT
TZOFFSETFROM:-0500
TZOFFSETTO:-0400
TZNAME:EDT
DTSTART:20280312T070000
END:DAYLIGHT
BEGIN:STANDARD
TZOFFSETFROM:-0400
TZOFFSETTO:-0500
TZNAME:EST
DTSTART:20281105T060000
END:STANDARD
BEGIN:DAYLIGHT
TZOFFSETFROM:-0500
TZOFFSETTO:-0400
TZNAME:EDT
DTSTART:20290311T070000
END:DAYLIGHT
BEGIN:STANDARD
TZOFFSETFROM:-0400
TZOFFSETTO:-0500
TZNAME:EST
DTSTART:20291104T060000
END:STANDARD
END:VTIMEZONE
BEGIN:VEVENT
DTSTART;TZID=America/New_York:20280221T160000
DTEND;TZID=America/New_York:20280221T180000
DTSTAMP:20260420T082212
CREATED:20240506T135549Z
LAST-MODIFIED:20240910T184736Z
UID:10001029-1834761600-1834768800@maps-inc.org
SUMMARY:LOWELL: No-Cost HIV/STI Health Clinic
DESCRIPTION:Free\, quick and confidential tests to HIV and other Sexually Transmitted Infections. \nFor more information: MAPS Lowell Office (490 Central St.)\, tel: (978) 970-1250;
URL:https://maps-inc.org/community-calendar/lowell-free-walk-in-health-clinic-4/2028-02-21/
LOCATION:Massachusetts Alliance of Portuguese Speakers | Lowell\, 490 Central St\, Lowell\, MA 01852\, USA
END:VEVENT
BEGIN:VEVENT
DTSTART;TZID=America/New_York:20280228T160000
DTEND;TZID=America/New_York:20280228T180000
DTSTAMP:20260420T082212
CREATED:20240506T135549Z
LAST-MODIFIED:20240910T184736Z
UID:10001030-1835366400-1835373600@maps-inc.org
SUMMARY:LOWELL: No-Cost HIV/STI Health Clinic
DESCRIPTION:Free\, quick and confidential tests to HIV and other Sexually Transmitted Infections. \nFor more information: MAPS Lowell Office (490 Central St.)\, tel: (978) 970-1250;
URL:https://maps-inc.org/community-calendar/lowell-free-walk-in-health-clinic-4/2028-02-28/
LOCATION:Massachusetts Alliance of Portuguese Speakers | Lowell\, 490 Central St\, Lowell\, MA 01852\, USA
END:VEVENT
BEGIN:VEVENT
DTSTART;TZID=America/New_York:20280306T160000
DTEND;TZID=America/New_York:20280306T180000
DTSTAMP:20260420T082212
CREATED:20240506T135549Z
LAST-MODIFIED:20240910T184736Z
UID:10001031-1835971200-1835978400@maps-inc.org
SUMMARY:LOWELL: No-Cost HIV/STI Health Clinic
DESCRIPTION:Free\, quick and confidential tests to HIV and other Sexually Transmitted Infections. \nFor more information: MAPS Lowell Office (490 Central St.)\, tel: (978) 970-1250;
URL:https://maps-inc.org/community-calendar/lowell-free-walk-in-health-clinic-4/2028-03-06/
LOCATION:Massachusetts Alliance of Portuguese Speakers | Lowell\, 490 Central St\, Lowell\, MA 01852\, USA
END:VEVENT
BEGIN:VEVENT
DTSTART;TZID=America/New_York:20280313T160000
DTEND;TZID=America/New_York:20280313T180000
DTSTAMP:20260420T082212
CREATED:20240506T135549Z
LAST-MODIFIED:20240910T184736Z
UID:10001032-1836576000-1836583200@maps-inc.org
SUMMARY:LOWELL: No-Cost HIV/STI Health Clinic
DESCRIPTION:Free\, quick and confidential tests to HIV and other Sexually Transmitted Infections. \nFor more information: MAPS Lowell Office (490 Central St.)\, tel: (978) 970-1250;
URL:https://maps-inc.org/community-calendar/lowell-free-walk-in-health-clinic-4/2028-03-13/
LOCATION:Massachusetts Alliance of Portuguese Speakers | Lowell\, 490 Central St\, Lowell\, MA 01852\, USA
END:VEVENT
BEGIN:VEVENT
DTSTART;TZID=America/New_York:20280320T160000
DTEND;TZID=America/New_York:20280320T180000
DTSTAMP:20260420T082213
CREATED:20240506T135549Z
LAST-MODIFIED:20240910T184736Z
UID:10001033-1837180800-1837188000@maps-inc.org
SUMMARY:LOWELL: No-Cost HIV/STI Health Clinic
DESCRIPTION:Free\, quick and confidential tests to HIV and other Sexually Transmitted Infections. \nFor more information: MAPS Lowell Office (490 Central St.)\, tel: (978) 970-1250;
URL:https://maps-inc.org/community-calendar/lowell-free-walk-in-health-clinic-4/2028-03-20/
LOCATION:Massachusetts Alliance of Portuguese Speakers | Lowell\, 490 Central St\, Lowell\, MA 01852\, USA
END:VEVENT
BEGIN:VEVENT
DTSTART;TZID=America/New_York:20280327T160000
DTEND;TZID=America/New_York:20280327T180000
DTSTAMP:20260420T082213
CREATED:20240506T135549Z
LAST-MODIFIED:20240910T184736Z
UID:10001034-1837785600-1837792800@maps-inc.org
SUMMARY:LOWELL: No-Cost HIV/STI Health Clinic
DESCRIPTION:Free\, quick and confidential tests to HIV and other Sexually Transmitted Infections. \nFor more information: MAPS Lowell Office (490 Central St.)\, tel: (978) 970-1250;
URL:https://maps-inc.org/community-calendar/lowell-free-walk-in-health-clinic-4/2028-03-27/
LOCATION:Massachusetts Alliance of Portuguese Speakers | Lowell\, 490 Central St\, Lowell\, MA 01852\, USA
END:VEVENT
BEGIN:VEVENT
DTSTART;TZID=America/New_York:20280403T160000
DTEND;TZID=America/New_York:20280403T180000
DTSTAMP:20260420T082213
CREATED:20240506T135549Z
LAST-MODIFIED:20240910T184736Z
UID:10001035-1838390400-1838397600@maps-inc.org
SUMMARY:LOWELL: No-Cost HIV/STI Health Clinic
DESCRIPTION:Free\, quick and confidential tests to HIV and other Sexually Transmitted Infections. \nFor more information: MAPS Lowell Office (490 Central St.)\, tel: (978) 970-1250;
URL:https://maps-inc.org/community-calendar/lowell-free-walk-in-health-clinic-4/2028-04-03/
LOCATION:Massachusetts Alliance of Portuguese Speakers | Lowell\, 490 Central St\, Lowell\, MA 01852\, USA
END:VEVENT
BEGIN:VEVENT
DTSTART;TZID=America/New_York:20280410T160000
DTEND;TZID=America/New_York:20280410T180000
DTSTAMP:20260420T082213
CREATED:20240506T135549Z
LAST-MODIFIED:20240910T184736Z
UID:10001036-1838995200-1839002400@maps-inc.org
SUMMARY:LOWELL: No-Cost HIV/STI Health Clinic
DESCRIPTION:Free\, quick and confidential tests to HIV and other Sexually Transmitted Infections. \nFor more information: MAPS Lowell Office (490 Central St.)\, tel: (978) 970-1250;
URL:https://maps-inc.org/community-calendar/lowell-free-walk-in-health-clinic-4/2028-04-10/
LOCATION:Massachusetts Alliance of Portuguese Speakers | Lowell\, 490 Central St\, Lowell\, MA 01852\, USA
END:VEVENT
BEGIN:VEVENT
DTSTART;TZID=America/New_York:20280417T160000
DTEND;TZID=America/New_York:20280417T180000
DTSTAMP:20260420T082213
CREATED:20240506T135549Z
LAST-MODIFIED:20240910T184736Z
UID:10001037-1839600000-1839607200@maps-inc.org
SUMMARY:LOWELL: No-Cost HIV/STI Health Clinic
DESCRIPTION:Free\, quick and confidential tests to HIV and other Sexually Transmitted Infections. \nFor more information: MAPS Lowell Office (490 Central St.)\, tel: (978) 970-1250;
URL:https://maps-inc.org/community-calendar/lowell-free-walk-in-health-clinic-4/2028-04-17/
LOCATION:Massachusetts Alliance of Portuguese Speakers | Lowell\, 490 Central St\, Lowell\, MA 01852\, USA
END:VEVENT
BEGIN:VEVENT
DTSTART;TZID=America/New_York:20280424T160000
DTEND;TZID=America/New_York:20280424T180000
DTSTAMP:20260420T082213
CREATED:20240506T135549Z
LAST-MODIFIED:20240910T184736Z
UID:10001038-1840204800-1840212000@maps-inc.org
SUMMARY:LOWELL: No-Cost HIV/STI Health Clinic
DESCRIPTION:Free\, quick and confidential tests to HIV and other Sexually Transmitted Infections. \nFor more information: MAPS Lowell Office (490 Central St.)\, tel: (978) 970-1250;
URL:https://maps-inc.org/community-calendar/lowell-free-walk-in-health-clinic-4/2028-04-24/
LOCATION:Massachusetts Alliance of Portuguese Speakers | Lowell\, 490 Central St\, Lowell\, MA 01852\, USA
END:VEVENT
BEGIN:VEVENT
DTSTART;TZID=America/New_York:20280501T160000
DTEND;TZID=America/New_York:20280501T180000
DTSTAMP:20260420T082213
CREATED:20240506T135549Z
LAST-MODIFIED:20240910T184736Z
UID:10001039-1840809600-1840816800@maps-inc.org
SUMMARY:LOWELL: No-Cost HIV/STI Health Clinic
DESCRIPTION:Free\, quick and confidential tests to HIV and other Sexually Transmitted Infections. \nFor more information: MAPS Lowell Office (490 Central St.)\, tel: (978) 970-1250;
URL:https://maps-inc.org/community-calendar/lowell-free-walk-in-health-clinic-4/2028-05-01/
LOCATION:Massachusetts Alliance of Portuguese Speakers | Lowell\, 490 Central St\, Lowell\, MA 01852\, USA
END:VEVENT
BEGIN:VEVENT
DTSTART;TZID=America/New_York:20280508T160000
DTEND;TZID=America/New_York:20280508T180000
DTSTAMP:20260420T082213
CREATED:20240506T135549Z
LAST-MODIFIED:20240910T184736Z
UID:10001040-1841414400-1841421600@maps-inc.org
SUMMARY:LOWELL: No-Cost HIV/STI Health Clinic
DESCRIPTION:Free\, quick and confidential tests to HIV and other Sexually Transmitted Infections. \nFor more information: MAPS Lowell Office (490 Central St.)\, tel: (978) 970-1250;
URL:https://maps-inc.org/community-calendar/lowell-free-walk-in-health-clinic-4/2028-05-08/
LOCATION:Massachusetts Alliance of Portuguese Speakers | Lowell\, 490 Central St\, Lowell\, MA 01852\, USA
END:VEVENT
BEGIN:VEVENT
DTSTART;TZID=America/New_York:20280515T160000
DTEND;TZID=America/New_York:20280515T180000
DTSTAMP:20260420T082213
CREATED:20240506T135549Z
LAST-MODIFIED:20240910T184736Z
UID:10001041-1842019200-1842026400@maps-inc.org
SUMMARY:LOWELL: No-Cost HIV/STI Health Clinic
DESCRIPTION:Free\, quick and confidential tests to HIV and other Sexually Transmitted Infections. \nFor more information: MAPS Lowell Office (490 Central St.)\, tel: (978) 970-1250;
URL:https://maps-inc.org/community-calendar/lowell-free-walk-in-health-clinic-4/2028-05-15/
LOCATION:Massachusetts Alliance of Portuguese Speakers | Lowell\, 490 Central St\, Lowell\, MA 01852\, USA
END:VEVENT
BEGIN:VEVENT
DTSTART;TZID=America/New_York:20280522T160000
DTEND;TZID=America/New_York:20280522T180000
DTSTAMP:20260420T082213
CREATED:20240506T135549Z
LAST-MODIFIED:20240910T184736Z
UID:10001042-1842624000-1842631200@maps-inc.org
SUMMARY:LOWELL: No-Cost HIV/STI Health Clinic
DESCRIPTION:Free\, quick and confidential tests to HIV and other Sexually Transmitted Infections. \nFor more information: MAPS Lowell Office (490 Central St.)\, tel: (978) 970-1250;
URL:https://maps-inc.org/community-calendar/lowell-free-walk-in-health-clinic-4/2028-05-22/
LOCATION:Massachusetts Alliance of Portuguese Speakers | Lowell\, 490 Central St\, Lowell\, MA 01852\, USA
END:VEVENT
BEGIN:VEVENT
DTSTART;TZID=America/New_York:20280529T160000
DTEND;TZID=America/New_York:20280529T180000
DTSTAMP:20260420T082213
CREATED:20240506T135549Z
LAST-MODIFIED:20240910T184736Z
UID:10001043-1843228800-1843236000@maps-inc.org
SUMMARY:LOWELL: No-Cost HIV/STI Health Clinic
DESCRIPTION:Free\, quick and confidential tests to HIV and other Sexually Transmitted Infections. \nFor more information: MAPS Lowell Office (490 Central St.)\, tel: (978) 970-1250;
URL:https://maps-inc.org/community-calendar/lowell-free-walk-in-health-clinic-4/2028-05-29/
LOCATION:Massachusetts Alliance of Portuguese Speakers | Lowell\, 490 Central St\, Lowell\, MA 01852\, USA
END:VEVENT
BEGIN:VEVENT
DTSTART;TZID=America/New_York:20280605T160000
DTEND;TZID=America/New_York:20280605T180000
DTSTAMP:20260420T082213
CREATED:20240506T135549Z
LAST-MODIFIED:20240910T184736Z
UID:10001044-1843833600-1843840800@maps-inc.org
SUMMARY:LOWELL: No-Cost HIV/STI Health Clinic
DESCRIPTION:Free\, quick and confidential tests to HIV and other Sexually Transmitted Infections. \nFor more information: MAPS Lowell Office (490 Central St.)\, tel: (978) 970-1250;
URL:https://maps-inc.org/community-calendar/lowell-free-walk-in-health-clinic-4/2028-06-05/
LOCATION:Massachusetts Alliance of Portuguese Speakers | Lowell\, 490 Central St\, Lowell\, MA 01852\, USA
END:VEVENT
BEGIN:VEVENT
DTSTART;TZID=America/New_York:20280612T160000
DTEND;TZID=America/New_York:20280612T180000
DTSTAMP:20260420T082213
CREATED:20240506T135549Z
LAST-MODIFIED:20240910T184736Z
UID:10001045-1844438400-1844445600@maps-inc.org
SUMMARY:LOWELL: No-Cost HIV/STI Health Clinic
DESCRIPTION:Free\, quick and confidential tests to HIV and other Sexually Transmitted Infections. \nFor more information: MAPS Lowell Office (490 Central St.)\, tel: (978) 970-1250;
URL:https://maps-inc.org/community-calendar/lowell-free-walk-in-health-clinic-4/2028-06-12/
LOCATION:Massachusetts Alliance of Portuguese Speakers | Lowell\, 490 Central St\, Lowell\, MA 01852\, USA
END:VEVENT
BEGIN:VEVENT
DTSTART;TZID=America/New_York:20280619T160000
DTEND;TZID=America/New_York:20280619T180000
DTSTAMP:20260420T082213
CREATED:20240506T135549Z
LAST-MODIFIED:20240910T184736Z
UID:10001046-1845043200-1845050400@maps-inc.org
SUMMARY:LOWELL: No-Cost HIV/STI Health Clinic
DESCRIPTION:Free\, quick and confidential tests to HIV and other Sexually Transmitted Infections. \nFor more information: MAPS Lowell Office (490 Central St.)\, tel: (978) 970-1250;
URL:https://maps-inc.org/community-calendar/lowell-free-walk-in-health-clinic-4/2028-06-19/
LOCATION:Massachusetts Alliance of Portuguese Speakers | Lowell\, 490 Central St\, Lowell\, MA 01852\, USA
END:VEVENT
BEGIN:VEVENT
DTSTART;TZID=America/New_York:20280626T160000
DTEND;TZID=America/New_York:20280626T180000
DTSTAMP:20260420T082213
CREATED:20240506T135549Z
LAST-MODIFIED:20240910T184736Z
UID:10001047-1845648000-1845655200@maps-inc.org
SUMMARY:LOWELL: No-Cost HIV/STI Health Clinic
DESCRIPTION:Free\, quick and confidential tests to HIV and other Sexually Transmitted Infections. \nFor more information: MAPS Lowell Office (490 Central St.)\, tel: (978) 970-1250;
URL:https://maps-inc.org/community-calendar/lowell-free-walk-in-health-clinic-4/2028-06-26/
LOCATION:Massachusetts Alliance of Portuguese Speakers | Lowell\, 490 Central St\, Lowell\, MA 01852\, USA
END:VEVENT
BEGIN:VEVENT
DTSTART;TZID=America/New_York:20280703T160000
DTEND;TZID=America/New_York:20280703T180000
DTSTAMP:20260420T082213
CREATED:20240506T135549Z
LAST-MODIFIED:20240910T184736Z
UID:10001048-1846252800-1846260000@maps-inc.org
SUMMARY:LOWELL: No-Cost HIV/STI Health Clinic
DESCRIPTION:Free\, quick and confidential tests to HIV and other Sexually Transmitted Infections. \nFor more information: MAPS Lowell Office (490 Central St.)\, tel: (978) 970-1250;
URL:https://maps-inc.org/community-calendar/lowell-free-walk-in-health-clinic-4/2028-07-03/
LOCATION:Massachusetts Alliance of Portuguese Speakers | Lowell\, 490 Central St\, Lowell\, MA 01852\, USA
END:VEVENT
BEGIN:VEVENT
DTSTART;TZID=America/New_York:20280710T160000
DTEND;TZID=America/New_York:20280710T180000
DTSTAMP:20260420T082213
CREATED:20240506T135549Z
LAST-MODIFIED:20240910T184736Z
UID:10001049-1846857600-1846864800@maps-inc.org
SUMMARY:LOWELL: No-Cost HIV/STI Health Clinic
DESCRIPTION:Free\, quick and confidential tests to HIV and other Sexually Transmitted Infections. \nFor more information: MAPS Lowell Office (490 Central St.)\, tel: (978) 970-1250;
URL:https://maps-inc.org/community-calendar/lowell-free-walk-in-health-clinic-4/2028-07-10/
LOCATION:Massachusetts Alliance of Portuguese Speakers | Lowell\, 490 Central St\, Lowell\, MA 01852\, USA
END:VEVENT
BEGIN:VEVENT
DTSTART;TZID=America/New_York:20280717T160000
DTEND;TZID=America/New_York:20280717T180000
DTSTAMP:20260420T082213
CREATED:20240506T135549Z
LAST-MODIFIED:20240910T184736Z
UID:10001050-1847462400-1847469600@maps-inc.org
SUMMARY:LOWELL: No-Cost HIV/STI Health Clinic
DESCRIPTION:Free\, quick and confidential tests to HIV and other Sexually Transmitted Infections. \nFor more information: MAPS Lowell Office (490 Central St.)\, tel: (978) 970-1250;
URL:https://maps-inc.org/community-calendar/lowell-free-walk-in-health-clinic-4/2028-07-17/
LOCATION:Massachusetts Alliance of Portuguese Speakers | Lowell\, 490 Central St\, Lowell\, MA 01852\, USA
END:VEVENT
BEGIN:VEVENT
DTSTART;TZID=America/New_York:20280724T160000
DTEND;TZID=America/New_York:20280724T180000
DTSTAMP:20260420T082213
CREATED:20240506T135549Z
LAST-MODIFIED:20240910T184736Z
UID:10001051-1848067200-1848074400@maps-inc.org
SUMMARY:LOWELL: No-Cost HIV/STI Health Clinic
DESCRIPTION:Free\, quick and confidential tests to HIV and other Sexually Transmitted Infections. \nFor more information: MAPS Lowell Office (490 Central St.)\, tel: (978) 970-1250;
URL:https://maps-inc.org/community-calendar/lowell-free-walk-in-health-clinic-4/2028-07-24/
LOCATION:Massachusetts Alliance of Portuguese Speakers | Lowell\, 490 Central St\, Lowell\, MA 01852\, USA
END:VEVENT
BEGIN:VEVENT
DTSTART;TZID=America/New_York:20280731T160000
DTEND;TZID=America/New_York:20280731T180000
DTSTAMP:20260420T082213
CREATED:20240506T135549Z
LAST-MODIFIED:20240910T184736Z
UID:10001052-1848672000-1848679200@maps-inc.org
SUMMARY:LOWELL: No-Cost HIV/STI Health Clinic
DESCRIPTION:Free\, quick and confidential tests to HIV and other Sexually Transmitted Infections. \nFor more information: MAPS Lowell Office (490 Central St.)\, tel: (978) 970-1250;
URL:https://maps-inc.org/community-calendar/lowell-free-walk-in-health-clinic-4/2028-07-31/
LOCATION:Massachusetts Alliance of Portuguese Speakers | Lowell\, 490 Central St\, Lowell\, MA 01852\, USA
END:VEVENT
BEGIN:VEVENT
DTSTART;TZID=America/New_York:20280807T160000
DTEND;TZID=America/New_York:20280807T180000
DTSTAMP:20260420T082213
CREATED:20240506T135549Z
LAST-MODIFIED:20240910T184736Z
UID:10001053-1849276800-1849284000@maps-inc.org
SUMMARY:LOWELL: No-Cost HIV/STI Health Clinic
DESCRIPTION:Free\, quick and confidential tests to HIV and other Sexually Transmitted Infections. \nFor more information: MAPS Lowell Office (490 Central St.)\, tel: (978) 970-1250;
URL:https://maps-inc.org/community-calendar/lowell-free-walk-in-health-clinic-4/2028-08-07/
LOCATION:Massachusetts Alliance of Portuguese Speakers | Lowell\, 490 Central St\, Lowell\, MA 01852\, USA
END:VEVENT
BEGIN:VEVENT
DTSTART;TZID=America/New_York:20280814T160000
DTEND;TZID=America/New_York:20280814T180000
DTSTAMP:20260420T082213
CREATED:20240506T135549Z
LAST-MODIFIED:20240910T184736Z
UID:10001054-1849881600-1849888800@maps-inc.org
SUMMARY:LOWELL: No-Cost HIV/STI Health Clinic
DESCRIPTION:Free\, quick and confidential tests to HIV and other Sexually Transmitted Infections. \nFor more information: MAPS Lowell Office (490 Central St.)\, tel: (978) 970-1250;
URL:https://maps-inc.org/community-calendar/lowell-free-walk-in-health-clinic-4/2028-08-14/
LOCATION:Massachusetts Alliance of Portuguese Speakers | Lowell\, 490 Central St\, Lowell\, MA 01852\, USA
END:VEVENT
BEGIN:VEVENT
DTSTART;TZID=America/New_York:20280821T160000
DTEND;TZID=America/New_York:20280821T180000
DTSTAMP:20260420T082213
CREATED:20240506T135549Z
LAST-MODIFIED:20240910T184736Z
UID:10001055-1850486400-1850493600@maps-inc.org
SUMMARY:LOWELL: No-Cost HIV/STI Health Clinic
DESCRIPTION:Free\, quick and confidential tests to HIV and other Sexually Transmitted Infections. \nFor more information: MAPS Lowell Office (490 Central St.)\, tel: (978) 970-1250;
URL:https://maps-inc.org/community-calendar/lowell-free-walk-in-health-clinic-4/2028-08-21/
LOCATION:Massachusetts Alliance of Portuguese Speakers | Lowell\, 490 Central St\, Lowell\, MA 01852\, USA
END:VEVENT
BEGIN:VEVENT
DTSTART;TZID=America/New_York:20280828T160000
DTEND;TZID=America/New_York:20280828T180000
DTSTAMP:20260420T082213
CREATED:20240506T135549Z
LAST-MODIFIED:20240910T184736Z
UID:10001056-1851091200-1851098400@maps-inc.org
SUMMARY:LOWELL: No-Cost HIV/STI Health Clinic
DESCRIPTION:Free\, quick and confidential tests to HIV and other Sexually Transmitted Infections. \nFor more information: MAPS Lowell Office (490 Central St.)\, tel: (978) 970-1250;
URL:https://maps-inc.org/community-calendar/lowell-free-walk-in-health-clinic-4/2028-08-28/
LOCATION:Massachusetts Alliance of Portuguese Speakers | Lowell\, 490 Central St\, Lowell\, MA 01852\, USA
END:VEVENT
BEGIN:VEVENT
DTSTART;TZID=America/New_York:20280904T160000
DTEND;TZID=America/New_York:20280904T180000
DTSTAMP:20260420T082213
CREATED:20240506T135549Z
LAST-MODIFIED:20240910T184736Z
UID:10001057-1851696000-1851703200@maps-inc.org
SUMMARY:LOWELL: No-Cost HIV/STI Health Clinic
DESCRIPTION:Free\, quick and confidential tests to HIV and other Sexually Transmitted Infections. \nFor more information: MAPS Lowell Office (490 Central St.)\, tel: (978) 970-1250;
URL:https://maps-inc.org/community-calendar/lowell-free-walk-in-health-clinic-4/2028-09-04/
LOCATION:Massachusetts Alliance of Portuguese Speakers | Lowell\, 490 Central St\, Lowell\, MA 01852\, USA
END:VEVENT
BEGIN:VEVENT
DTSTART;TZID=America/New_York:20280911T160000
DTEND;TZID=America/New_York:20280911T180000
DTSTAMP:20260420T082213
CREATED:20240506T135549Z
LAST-MODIFIED:20240910T184736Z
UID:10001058-1852300800-1852308000@maps-inc.org
SUMMARY:LOWELL: No-Cost HIV/STI Health Clinic
DESCRIPTION:Free\, quick and confidential tests to HIV and other Sexually Transmitted Infections. \nFor more information: MAPS Lowell Office (490 Central St.)\, tel: (978) 970-1250;
URL:https://maps-inc.org/community-calendar/lowell-free-walk-in-health-clinic-4/2028-09-11/
LOCATION:Massachusetts Alliance of Portuguese Speakers | Lowell\, 490 Central St\, Lowell\, MA 01852\, USA
END:VEVENT
END:VCALENDAR